BEGIN:VCALENDAR
VERSION:2.0
PRODID:-//ChamberMaster//Event Calendar 2.0//EN
METHOD:PUBLISH
X-PUBLISHED-TTL:P3D
REFRESH-INTERVAL:P3D
CALSCALE:GREGORIAN
BEGIN:VEVENT
DTSTART;VALUE=DATE:20241008
DTEND;VALUE=DATE:20241009
TRANSP:TRANSPARENT
X-MICROSOFT-CDO-ALLDAYEVENT:TRUE
SUMMARY:Fall Car Freshie Class
DESCRIPTION:Join us to make a fall car freshie. Lots of crafting fun! To register: Face book page.
X-ALT-DESC;FMTTYPE=text/html:Join us to make a fall car freshie. Lots of crafting fun! To register: Face book page.
LOCATION:The Gathering Place 1501 ST Rt 522 Wheelersburg\, Oh 45694
UID:e.3589.2901
SEQUENCE:3
DTSTAMP:20260421T204408Z
URL:https://business.portsmouth.org/events/details/fall-car-freshie-class-2901
END:VEVENT

END:VCALENDAR
