BEGIN:VCALENDAR
VERSION:2.0
PRODID:-//ChamberMaster//Event Calendar 2.0//EN
METHOD:PUBLISH
X-PUBLISHED-TTL:P3D
REFRESH-INTERVAL:P3D
CALSCALE:GREGORIAN
BEGIN:VEVENT
DTSTART;VALUE=DATE:20241020
DTEND;VALUE=DATE:20241021
TRANSP:TRANSPARENT
X-MICROSOFT-CDO-ALLDAYEVENT:TRUE
SUMMARY:Fall Leaf Run '24
DESCRIPTION:Portsmouth Motorcycle Club will hold the 2024 Fall Leaf Run\, Trophies\, Door Prizes\, Food/Drinks\, Raffles\, and 50/50
X-ALT-DESC;FMTTYPE=text/html:Portsmouth Motorcycle Club will hold the 2024 Fall Leaf Run\, Trophies\, Door Prizes\, Food/Drinks\, Raffles\, and 50/50
LOCATION:Portsmouth Motorcycle Club 101 Front Street Portsmouth\, Oh 45662 740-353-0972
UID:e.3589.2903
SEQUENCE:3
DTSTAMP:20260421T204358Z
URL:https://business.portsmouth.org/events/details/fall-leaf-run-24-2903
END:VEVENT

END:VCALENDAR
