BEGIN:VCALENDAR
VERSION:2.0
PRODID:-//ChamberMaster//Event Calendar 2.0//EN
METHOD:PUBLISH
X-PUBLISHED-TTL:P3D
REFRESH-INTERVAL:P3D
CALSCALE:GREGORIAN
BEGIN:VEVENT
DTSTART;VALUE=DATE:20221001
DTEND;VALUE=DATE:20221003
TRANSP:TRANSPARENT
X-MICROSOFT-CDO-ALLDAYEVENT:TRUE
SUMMARY:Festifall
DESCRIPTION:Festifall! This event includes a Craft Beerfest on Saturday and Glocktoberfest on Sunday. For more information\, find Friends of Portsmouth on Facebook or visit their website at friendsofportsmouth.com.
X-ALT-DESC;FMTTYPE=text/html:<span style="font-size:28px\;"><strong>Festifall! This event includes a Craft Beerfest on Saturday and Glocktoberfest on Sunday. For more information\, find Friends of Portsmouth on Facebook or visit their website at friendsofportsmouth.com.</strong></span>
LOCATION:
UID:e.3589.368
SEQUENCE:3
DTSTAMP:20260425T021104Z
URL:https://business.portsmouth.org/events/details/festifall-368
END:VEVENT

END:VCALENDAR
