BEGIN:VCALENDAR
VERSION:2.0
PRODID:-//ChamberMaster//Event Calendar 2.0//EN
METHOD:PUBLISH
X-PUBLISHED-TTL:P3D
REFRESH-INTERVAL:P3D
CALSCALE:GREGORIAN
BEGIN:VEVENT
DTSTART;VALUE=DATE:20220624
DTEND;VALUE=DATE:20220625
TRANSP:TRANSPARENT
X-MICROSOFT-CDO-ALLDAYEVENT:TRUE
SUMMARY:Final Friday Concert
DESCRIPTION:June 24th   Final Friday in Boneyfiddle's PORTSTOCK featuring The Sugarbeats- 8:00 p.m.\, Corduroy Brown- 6:30 p.m. and Johnny the Fox- 5:30 p.m. This  popular hippy themed event is being brought back by popular demand. We will resurrect the summer of "Peace & Love" through dress\, music and dance. Event takes place at Three Bridges Outdoor Concert Venue located at 132-2nd St.\, Portsmouth\, Ohio. Find the event on Facebook for more details. \n\n\n\n\n\n*Events take place at Three Bridges Outdoor Concert Venue located at 132-2nd St. Portsmouth\, Ohio unless otherwise noted.  All events are presented under the auspices of the nonprofit Boneyfiddle Project.  Food and merchandise will be available at the concert but there will be no alcohol sales on site.  Coolers are discreetly permitted.  We are in a designated DORA zone which allows for open carry of alcohol purchased from participating establishments in approved containers.  All Vendors must register @ FinalFridayinBoneyfiddleVendors page on Facebook.
X-ALT-DESC;FMTTYPE=text/html:<span style="font-size:18px\;"><strong>June 24<sup>th</sup> &ndash\; Final Friday in Boneyfiddle&rsquo\;s PORTSTOCK </strong>featuring The Sugarbeats- 8:00 p.m.\, Corduroy Brown- 6:30 p.m. and Johnny the Fox- 5:30 p.m. This&nbsp\; popular hippy themed event is being brought back by popular demand. We will resurrect the summer of &ldquo\;Peace &amp\; Love&rdquo\; through dress\, music and dance. Event takes place at Three Bridges Outdoor Concert Venue located at 132-2nd St.\, Portsmouth\, Ohio. Find the event on Facebook for more details.&nbsp\;<br />\n<br />\n<br />\n*Events take place at Three Bridges Outdoor Concert Venue located at 132-2<sup>nd</sup> St.&nbsp\;Portsmouth\, Ohio unless otherwise noted.&nbsp\; All events are presented under the&nbsp\;auspices of the nonprofit Boneyfiddle Project.&nbsp\; Food and merchandise will be&nbsp\;available at the concert but there will be no alcohol sales on site.&nbsp\; Coolers are&nbsp\;<span style="text-indent:0in\;">discreetly permitted.&nbsp\; We are in a designated DORA zone which allows for open carry of alcohol purchased from participating establishments in approved&nbsp\;</span><span style="text-indent:0in\;">containers.</span>&nbsp\; <span style="text-indent:0in\;">All Vendors must register @ FinalFridayinBoneyfiddleVendors page on Facebook.</span><br />\n&nbsp\;</span>
LOCATION:
UID:e.3589.356
SEQUENCE:3
DTSTAMP:20260423T220240Z
URL:https://business.portsmouth.org/events/details/final-friday-concert-356
END:VEVENT

END:VCALENDAR
