BEGIN:VCALENDAR
VERSION:2.0
PRODID:-//ChamberMaster//Event Calendar 2.0//EN
METHOD:PUBLISH
X-PUBLISHED-TTL:P3D
REFRESH-INTERVAL:P3D
CALSCALE:GREGORIAN
BEGIN:VEVENT
DTSTART:20210528T213000Z
DTEND:20210529T013000Z
X-MICROSOFT-CDO-ALLDAYEVENT:FALSE
SUMMARY:Final Friday Concert Series
DESCRIPTION:Final Friday in Boneyfiddle Concert Series at the 3 Bridges Outdoor Concert Venue on 2nd Street in downtown Portsmouth\n\nThe May event will feature:\n\nWizard\n\nJosh Stewart Band\n\nAND MORE!\n\n\n\nBring your lawn chair and get ready for an evening of entertainment!  Food vendors onsite.
X-ALT-DESC;FMTTYPE=text/html:<span style="color:#FF0000\;"><span style="font-size:20px\;"><strong>Final Friday in Boneyfiddle Concert Series at the 3 Bridges Outdoor Concert Venue on 2nd Street in downtown Portsmouth</strong></span></span><br />\n<span style="font-size:18px\;">The May event will feature:<br />\nWizard<br />\nJosh Stewart Band<br />\nAND MORE!<br />\n<br />\nBring your lawn chair and get ready for an evening of entertainment!&nbsp\; Food vendors onsite.&nbsp\;&nbsp\;</span>
LOCATION:
UID:e.3589.172
SEQUENCE:3
DTSTAMP:20260419T201903Z
URL:https://business.portsmouth.org/events/details/final-friday-concert-series-172
END:VEVENT

END:VCALENDAR
