BEGIN:VCALENDAR
VERSION:2.0
PRODID:-//ChamberMaster//Event Calendar 2.0//EN
METHOD:PUBLISH
X-PUBLISHED-TTL:P3D
REFRESH-INTERVAL:P3D
CALSCALE:GREGORIAN
BEGIN:VEVENT
DTSTART:20210730T213000Z
DTEND:20210731T013000Z
X-MICROSOFT-CDO-ALLDAYEVENT:FALSE
SUMMARY:Final Friday Concert Series
DESCRIPTION:Final Friday in Boneyfiddle Concert Series at the 3 Bridges Outdoor Concert Venue on 2nd Street in downtown Portsmouth\n\nThe July event will be a tribute to Portsmouth's Rich Moon. \n\nFeaturing.....\n\nBad Habits\nMikey Mike and the Big Unit\n\n\nAND MORE!\n\n\n\nBring your lawn chair and get ready for an evening of entertainment!  Food vendors onsite.
X-ALT-DESC;FMTTYPE=text/html:<span style="color:#FF0000\;"><span style="font-size:20px\;"><strong>Final Fr</strong></span></span><span style="color: rgb(255\, 0\, 0)\;"><span style="font-size: 20px\;"><strong>iday in Boneyfiddle Concert Series at the 3 Bridges Outdoor Concert Venue on 2nd Street in downtown Portsmouth</strong></span></span><br />\n<span style="font-size: 18px\;"><strong><em>The July event will be a tribute to Portsmouth&#39\;s Rich Moon.&nbsp\;</em></strong><br />\nFeaturing.....<br />\n<span style="font-family:verdana\;"><strong><span style="color:#FF0000\;">Bad Habits</span></strong></span></span>\n<h1 class="gmql0nx0 l94mrbxd p1ri9a11 lzcic4wl bp9cbjyn j83agx80" dir="auto" style="color: rgb(5\, 5\, 5)\; font-size: inherit\; font-weight: inherit\; margin: 0px\; padding: 0px\; outline: none\; align-items: center\; display: flex\; font-family: &quot\;Segoe UI Historic&quot\;\, &quot\;Segoe UI&quot\;\, Helvetica\, Arial\, sans-serif\; text-align: center\; background-color: rgb(255\, 255\, 255)\; animation-name: none !important\; transition-property: none !important\;"><span style="font-family:verdana\;"><strong><span style="color:#FF0000\;"><span style="font-size:18px\;">Mikey Mike and the Big Unit</span></span></strong></span></h1>\n<br />\n<span style="font-size: 18px\;">AND MORE!<br />\n<br />\nBring your lawn chair and get ready for an evening of entertainment!&nbsp\; Food vendors onsite.&nbsp\;&nbsp\;</span>
LOCATION:
UID:e.3589.174
SEQUENCE:3
DTSTAMP:20260419T190014Z
URL:https://business.portsmouth.org/events/details/final-friday-concert-series-174
END:VEVENT

END:VCALENDAR
