BEGIN:VCALENDAR
VERSION:2.0
PRODID:-//ChamberMaster//Event Calendar 2.0//EN
METHOD:PUBLISH
X-PUBLISHED-TTL:P3D
REFRESH-INTERVAL:P3D
CALSCALE:GREGORIAN
BEGIN:VEVENT
DTSTART:20200317T230000Z
DTEND:20200318T020000Z
X-MICROSOFT-CDO-ALLDAYEVENT:FALSE
SUMMARY:Finding Neverland
DESCRIPTION:Finding Neverland tells the story behind one of the world's most beloved character\, Peter Pan. Playwright J.M. Barrie was struggling to find his inspiration until he met four young brothers and their beautiful widowed mother. Spellbound by their boys' enchanting make-believe adventures\, Barrie set out to write a play that would astound London theatergoers. With a bit of pixie dust and a lot of faith\, he took a monumental leap\, leaving his old world behind for Neverland\, where nothing is impossible and the wonder of childhood lasts forever.
X-ALT-DESC;FMTTYPE=text/html:<span style="font-family:times new roman\,serif\;"><span style="font-size:12.0pt\;">Finding Neverland tells the story behind one of the world&rsquo\;s most beloved character\, Peter Pan. Playwright J.M. Barrie was struggling to find his inspiration until he met four young brothers and their beautiful widowed mother. Spellbound by their boys&rsquo\; enchanting make-believe adventures\, Barrie set out to write a play that would astound London theatergoers. With a bit of pixie dust and a lot of faith\, he took a monumental leap\, leaving his old world behind for Neverland\, where nothing is impossible and the wonder of childhood lasts forever.&nbsp\;</span></span>
LOCATION:Vern Riffe Center for the Arts 940 2nd Street Portsmouth\, OH 45662
UID:e.3589.15
SEQUENCE:3
DTSTAMP:20260422T134712Z
URL:https://business.portsmouth.org/events/details/finding-neverland-15
END:VEVENT

END:VCALENDAR
