BEGIN:VCALENDAR
VERSION:2.0
PRODID:-//ChamberMaster//Event Calendar 2.0//EN
METHOD:PUBLISH
X-PUBLISHED-TTL:P3D
REFRESH-INTERVAL:P3D
CALSCALE:GREGORIAN
BEGIN:VEVENT
DTSTART;VALUE=DATE:20200321
DTEND;VALUE=DATE:20200322
TRANSP:TRANSPARENT
X-MICROSOFT-CDO-ALLDAYEVENT:TRUE
SUMMARY:Firefighters Ball
DESCRIPTION:Firefighers Ball
X-ALT-DESC;FMTTYPE=text/html:<strong>Firefighers Ball</strong>
LOCATION:American Legion Post 23\, 705 Court Street.
UID:e.3589.18
SEQUENCE:3
DTSTAMP:20260422T134817Z
URL:https://business.portsmouth.org/events/details/firefighters-ball-18
END:VEVENT

END:VCALENDAR
