BEGIN:VCALENDAR
VERSION:2.0
PRODID:-//ChamberMaster//Event Calendar 2.0//EN
METHOD:PUBLISH
X-PUBLISHED-TTL:P3D
REFRESH-INTERVAL:P3D
CALSCALE:GREGORIAN
BEGIN:VEVENT
DTSTART;VALUE=DATE:20241204
DTEND;VALUE=DATE:20241205
TRANSP:TRANSPARENT
X-MICROSOFT-CDO-ALLDAYEVENT:TRUE
SUMMARY:Fourteenth St Community Center Heroes Awards
DESCRIPTION:an evening of honoring our heroes. A light dinner will be served.
X-ALT-DESC;FMTTYPE=text/html:an evening of honoring our heroes. A light dinner will be served.&nbsp\;
LOCATION:
UID:e.3589.2453
SEQUENCE:3
DTSTAMP:20260421T111257Z
URL:https://business.portsmouth.org/events/details/fourteenth-st-community-center-heroes-awards-2453
END:VEVENT

END:VCALENDAR
