BEGIN:VCALENDAR
VERSION:2.0
PRODID:-//ChamberMaster//Event Calendar 2.0//EN
METHOD:PUBLISH
X-PUBLISHED-TTL:P3D
REFRESH-INTERVAL:P3D
CALSCALE:GREGORIAN
BEGIN:VEVENT
DTSTART;VALUE=DATE:20220604
DTEND;VALUE=DATE:20220605
TRANSP:TRANSPARENT
X-MICROSOFT-CDO-ALLDAYEVENT:TRUE
SUMMARY:Friend/NRA Banquet
DESCRIPTION:Show your 2nd Amendment support!\n\n \n\n12th Annual Portsmouth Patriot Friends of NRA Banquet   \n\n \n\nNew Boston Community Center\n\n3938 Rhodes Ave. New Boston\, Ohio 45662\n\nSaturday\, June 4th 2022\n\n \n\n \n\nDoors open at 5:00 pm\n\nHours 5pm-8pm\n\n \n\nSingle ticket $40.00 \n\n \n\nSponsor packages starting as little $100.00\,\n\nAsk about sponsor options with a gun guarantee. \n\n \n\nOffice Holders and businesses sponsor tables $400.00\n\n \n\nSponsor a auction item or a game and we will display your business or office beside it. Sponsorship is as little as $25.00 to $500.00.\n\n \n\n \n\nTickets available online at www.FriendsofNRA.org\n\nFor Tickets contact Rebecca 740-727-3935 or email rebeccawithlsb@live.com \n\nmail checks to  \n\nAttention: Rebecca Clark\n\nPortsmouth Patriot Friends of NRA \n\nP.O. Box 41 \n\nMcDermott\, OH 45652 \n\n \n\nSponsor opportunities and levels. All sponsors of tables or merchandise are listed in our program for the evening with a business card size ads. Ask us about upgrading your ad in our program to quarter\, half or full page.\n\n \n\nMerchandise or game sponsor starts at $25.00-$1000.00 includes advertisement in our program and with the item. \n\n \n\nNRA Sponsor package $100.00 \n\nincludes 1 dinner ticket\, 1 ticket for the sponsor only gun raffle\, $60.00 in bucket raffle tickets. \n\n \n\nPatriot Table $350.00\n\nIncludes 8 dinner tickets\, $40.00 bucket tickets and reserved seating \n\n \n\nOffice Holder or Business Sponsor Table (8 person) $400.00 \n\nbusiness card ad in the program($50.00 value). $40.00 Bucket tickets\, 8 dinner & reserved seating. \n\n \n\nNRA Silver Sponsor $800.00\n\n8 dinners & reserved seating\, 8 raffle tickets for the sponsor only gun raffle $500.00 bucket raffle tickets.\n\n \n\nNRA Gold Sponsor $1500.00\n\nReserved seating for 8 dinners\, 2 NRA Sponsor packages\, 1 Guaranteed Gun (Henry Golden Boy\, Tri Star Setter or Springfield Armory Hell Cat) quantities limited \n\n \n\nNRA Diamond Sponsor $2500.00\n\nReserved seating\, 8 dinners\, 8 NRA Sponsor packages\, 1 Guaranteed Premium Gun (choose from Ruger\, Fostec\, Kimber\, Springfield etc. Quantities limited and availability subject to change. Contact Rebecca for full current list of choices) \n\n \n\nTable gun package sponsors\, advanced registration allows gun pick-up the banquet night. All table gun sponsors the night of or within 48 hours of the June 4th banquet will be able to pick-up their table gun at a later date. \n\n \n\nAdvertisement in our banquet program: cost is based per person\n\nOption 1: Business Card               Investment: $25.00           cost 16 cents \n\nOption 2: Quarter Page                Investment: $50.00           cost 33 cents\n\nOption 3: Half Page                       Investment: $75.00           cost 50 cents\n\nOption 4: Full Page                                    Investment: $100.00        cost 66 cents
X-ALT-DESC;FMTTYPE=text/html:<strong><span style="font-family:traditional arabic\,serif\;"><span style="font-size:20.0pt\;">Show your 2nd Amendment support!</span></span></strong><br />\n&nbsp\;<br />\n<strong><em><span style="font-family:traditional arabic\,serif\;"><span style="font-size:26.0pt\;">12th Annual Portsmouth Patriot Friends of NRA Banquet &nbsp\; </span></span></em></strong><br />\n&nbsp\;<br />\n<strong><em><span style="font-family:traditional arabic\,serif\;"><span style="font-size:22.0pt\;">New Boston Community Center</span></span></em></strong><br />\n<em><span style="font-family:traditional arabic\,serif\;"><span style="font-size:18.0pt\;">3938 Rhodes Ave. New Boston\, Ohio 45662</span></span></em><br />\n<strong><em><span style="font-family:traditional arabic\,serif\;"><span style="font-size:20.0pt\;">Saturday\, June 4<sup>th</sup> 2022</span></span></em></strong><br />\n&nbsp\;<br />\n&nbsp\;<br />\n<strong><span style="font-family:traditional arabic\,serif\;"><span style="font-size:20.0pt\;">Doors open at 5:00 pm</span></span></strong><br />\n<strong><span style="font-family:traditional arabic\,serif\;"><span style="font-size:20.0pt\;">Hours 5pm-8pm</span></span></strong><br />\n&nbsp\;<br />\n<strong><em><span style="font-family:traditional arabic\,serif\;"><span style="font-size:20.0pt\;">Single ticket $40.00 </span></span></em></strong><br />\n&nbsp\;<br />\n<strong><em><span style="font-family:traditional arabic\,serif\;"><span style="font-size:20.0pt\;">Sponsor packages starting as little $100.00\,</span></span></em></strong><br />\n<strong><em><span style="font-family:traditional arabic\,serif\;"><span style="font-size:16.0pt\;">Ask about sponsor options with a gun guarantee. </span></span></em></strong><br />\n&nbsp\;<br />\n<strong><em><span style="font-family:traditional arabic\,serif\;"><span style="font-size:20.0pt\;">Office Holders and businesses sponsor tables $400.00</span></span></em></strong><br />\n&nbsp\;<br />\n<strong><em><span style="font-family:traditional arabic\,serif\;"><span style="font-size:16.0pt\;">Sponsor a auction item or a game and we will display your business or office beside it. Sponsorship is as little as $25.00 to $500.00.</span></span></em></strong><br />\n&nbsp\;<br />\n&nbsp\;<br />\n<strong><em><span style="font-family:traditional arabic\,serif\;"><span style="font-size:16.0pt\;">Tickets available online at </span></span></em></strong><a href="http://www.friendsofnra.org/"><strong><em><span style="text-decoration:none\;text-underline:none\;"><span style="color:windowtext\;"><span style="font-family:traditional arabic\,serif\;"><span style="font-size:16.0pt\;">www.FriendsofNRA.org</span></span></span></span></em></strong></a><br />\n<strong><em><span style="font-family:traditional arabic\,serif\;"><span style="font-size:16.0pt\;">For Tickets contact Rebecca 740-727-3935 or email rebeccawithlsb@live.com </span></span></em></strong><br />\n<strong><em><span style="font-family:traditional arabic\,serif\;"><span style="font-size:16.0pt\;">mail checks to&nbsp\; </span></span></em></strong><br />\n<strong><em><span style="font-family:traditional arabic\,serif\;"><span style="font-size:16.0pt\;">Attention: Rebecca Clark</span></span></em></strong><br />\n<strong><em><span style="font-family:traditional arabic\,serif\;"><span style="font-size:16.0pt\;">Portsmouth Patriot Friends of NRA </span></span></em></strong><br />\n<strong><em><span style="font-family:traditional arabic\,serif\;"><span style="font-size:16.0pt\;">P.O. Box 41 </span></span></em></strong><br />\n<strong><em><span style="font-family:traditional arabic\,serif\;"><span style="font-size:16.0pt\;">McDermott\, OH 45652 </span></span></em></strong><br />\n&nbsp\;<br />\n<strong><em><span style="font-family:traditional arabic\,serif\;"><span style="font-size:14.0pt\;">Sponsor opportunities and levels. All sponsors of tables or merchandise are listed in our program for the evening with a business card size ads. Ask us about upgrading your ad in our program to quarter\, half or full page.</span></span></em></strong><br />\n&nbsp\;<br />\n<strong><em><span style="font-family:traditional arabic\,serif\;"><span style="font-size:14.0pt\;">Merchandise or game sponsor starts at $25.00-$1000.00 includes advertisement in our program and with the item</span></span></em></strong><strong><em><span style="font-family:traditional arabic\,serif\;"><span style="font-size:16.0pt\;">. </span></span></em></strong><br />\n&nbsp\;<br />\n<strong><u><span style="font-family:traditional arabic\,serif\;"><span style="font-size:16.0pt\;">NRA Sponsor package $100.00 </span></span></u></strong><br />\n<strong><em><span style="font-family:traditional arabic\,serif\;"><span style="font-size:14.0pt\;">includes 1 dinner ticket\, 1 ticket for the sponsor only gun raffle\, $60.00 in bucket raffle tickets. </span></span></em></strong><br />\n&nbsp\;<br />\n<strong><em><u><span style="font-family:traditional arabic\,serif\;"><span style="font-size:16.0pt\;">Patriot Table $350.00</span></span></u></em></strong><br />\n<strong><span style="font-family:traditional arabic\,serif\;"><span style="font-size:14.0pt\;">Includes 8 dinner tickets\, $40.00 bucket tickets and reserved seating </span></span></strong><br />\n&nbsp\;<br />\n<strong><u><span style="font-family:traditional arabic\,serif\;"><span style="font-size:16.0pt\;">Office Holder or Business Sponsor Table (8 person) $400.00 </span></span></u></strong><br />\n<strong><em><span style="font-family:traditional arabic\,serif\;"><span style="font-size:14.0pt\;">business card ad in the program($50.00 value). $40.00 Bucket tickets\, 8 dinner &amp\; reserved seating. </span></span></em></strong><br />\n&nbsp\;<br />\n<strong><em><u><span style="font-family:traditional arabic\,serif\;"><span style="font-size:16.0pt\;">NRA Silver Sponsor $800.00</span></span></u></em></strong><br />\n<strong><em><span style="font-family:traditional arabic\,serif\;"><span style="font-size:14.0pt\;">8 dinners &amp\; reserved seating\, 8 raffle tickets for the sponsor only gun raffle $500.00 bucket raffle tickets.</span></span></em></strong><br />\n&nbsp\;<br />\n<strong><em><u><span style="font-family:traditional arabic\,serif\;"><span style="font-size:16.0pt\;">NRA Gold Sponsor $1500.00</span></span></u></em></strong><br />\n<strong><em><span style="font-family:traditional arabic\,serif\;"><span style="font-size:14.0pt\;">Reserved seating for 8 dinners\, 2 NRA Sponsor packages\, 1 Guaranteed Gun (Henry Golden Boy\, Tri Star Setter or Springfield Armory Hell Cat) quantities limited </span></span></em></strong><br />\n&nbsp\;<br />\n<strong><em><u><span style="font-family:traditional arabic\,serif\;"><span style="font-size:16.0pt\;">NRA Diamond Sponsor $2500.00</span></span></u></em></strong><br />\n<strong><em><span style="font-family:traditional arabic\,serif\;"><span style="font-size:14.0pt\;">Reserved seating\, 8 dinners\, 8 NRA Sponsor packages\, 1 Guaranteed Premium Gun (choose from Ruger\, Fostec\, Kimber\, Springfield etc. Quantities limited and availability subject to change. Contact Rebecca for full current list of choices) </span></span></em></strong><br />\n&nbsp\;<br />\n<strong><em><span style="font-family:traditional arabic\,serif\;">Table gun package sponsors\, advanced registration allows gun pick-up the banquet night. All table gun sponsors the night of or within 48 hours of the June 4th banquet will be able to pick-up their table gun at a later date. </span></em></strong><br />\n&nbsp\;<br />\n<strong><u><span style="font-size:14.0pt\;">Advertisement in our banquet program: cost is based per person</span></u></strong><br />\n<span style="font-size:14.0pt\;">Option 1: Business Card &nbsp\; &nbsp\;&nbsp\;&nbsp\;&nbsp\;&nbsp\;&nbsp\;&nbsp\;&nbsp\;&nbsp\;&nbsp\;&nbsp\; Investment: $25.00&nbsp\;&nbsp\;&nbsp\;&nbsp\;&nbsp\;&nbsp\;&nbsp\;&nbsp\;&nbsp\;&nbsp\; cost 16 cents </span><br />\n<span style="font-size:14.0pt\;">Option 2: Quarter Page&nbsp\;&nbsp\;&nbsp\;&nbsp\;&nbsp\;&nbsp\;&nbsp\;&nbsp\;&nbsp\;&nbsp\;&nbsp\;&nbsp\;&nbsp\;&nbsp\;&nbsp\; Investment: $50.00&nbsp\;&nbsp\;&nbsp\;&nbsp\;&nbsp\;&nbsp\;&nbsp\;&nbsp\;&nbsp\;&nbsp\; cost 33 cents</span><br />\n<span style="font-size:14.0pt\;">Option 3: Half Page&nbsp\;&nbsp\;&nbsp\;&nbsp\;&nbsp\;&nbsp\;&nbsp\;&nbsp\;&nbsp\;&nbsp\;&nbsp\;&nbsp\;&nbsp\;&nbsp\;&nbsp\;&nbsp\;&nbsp\;&nbsp\;&nbsp\;&nbsp\;&nbsp\;&nbsp\; Investment: $75.00&nbsp\;&nbsp\;&nbsp\;&nbsp\;&nbsp\;&nbsp\;&nbsp\;&nbsp\;&nbsp\;&nbsp\; cost 50 cents</span><br />\n<span style="font-size:14.0pt\;">Option 4: Full Page&nbsp\;&nbsp\;&nbsp\;&nbsp\;&nbsp\;&nbsp\;&nbsp\;&nbsp\;&nbsp\;&nbsp\;&nbsp\;&nbsp\;&nbsp\;&nbsp\;&nbsp\;&nbsp\;&nbsp\;&nbsp\;&nbsp\;&nbsp\;&nbsp\;&nbsp\;&nbsp\; &nbsp\;&nbsp\;&nbsp\;&nbsp\;&nbsp\;&nbsp\;&nbsp\;&nbsp\;&nbsp\;&nbsp\;&nbsp\; Investment: $100.00&nbsp\;&nbsp\;&nbsp\;&nbsp\;&nbsp\;&nbsp\;&nbsp\; cost 66 cents</span>
LOCATION:
UID:e.3589.393
SEQUENCE:3
DTSTAMP:20260423T221911Z
URL:https://business.portsmouth.org/events/details/friend-nra-banquet-393
END:VEVENT

END:VCALENDAR
