BEGIN:VCALENDAR
VERSION:2.0
PRODID:-//ChamberMaster//Event Calendar 2.0//EN
METHOD:PUBLISH
X-PUBLISHED-TTL:P3D
REFRESH-INTERVAL:P3D
CALSCALE:GREGORIAN
BEGIN:VEVENT
DTSTART:20200215T150000Z
DTEND:20200215T170000Z
X-MICROSOFT-CDO-ALLDAYEVENT:FALSE
SUMMARY:Friends of Brush Creek Annual Meeting
DESCRIPTION:February 15th   Watershed fish\, mammals\, mussels and invertebrates will be the program topic at the Friends of Scioto Brush Creek's annual meeting at Union Township Community Center\, 50 Arion Rd at 10 a.m. Potluck luncheon will follow the presentation.  Everyone is welcome to attend. For more information\, contact Jody at fosbc@scpwildblue.com or 740-493-3062.
X-ALT-DESC;FMTTYPE=text/html:&nbsp\;&nbsp\;February 15<sup>th</sup> &ndash\; Watershed fish\, mammals\, mussels and invertebrates will be the program topic at the Friends of Scioto Brush Creek&rsquo\;s annual meeting at Union Township Community Center\, 50 Arion Rd at 10 a.m. Potluck luncheon will follow the presentation.&nbsp\; Everyone is welcome to attend. For more information\, contact Jody at <a href="mailto:foscb@scpwildblue.com">fosbc@scpwildblue.com</a> or 740-493-3062.
LOCATION:Union Township Community Center\, 50 Arion Rd
UID:e.3589.56
SEQUENCE:3
DTSTAMP:20260422T151548Z
URL:https://business.portsmouth.org/events/details/friends-of-brush-creek-annual-meeting-56
END:VEVENT

END:VCALENDAR
