BEGIN:VCALENDAR
VERSION:2.0
PRODID:-//ChamberMaster//Event Calendar 2.0//EN
METHOD:PUBLISH
X-PUBLISHED-TTL:P3D
REFRESH-INTERVAL:P3D
CALSCALE:GREGORIAN
BEGIN:VEVENT
DTSTART:20200311T213000Z
DTEND:20200311T233000Z
X-MICROSOFT-CDO-ALLDAYEVENT:FALSE
SUMMARY:Friends of Portsmouth Town Hall Meeting
DESCRIPTION:Join the Friends of Portsmouth the evening on March 11th for an update on Friends of Portsmouth initiatives\, upcoming events\, and volunteer opportunities. Ask questions\, share ideas\, and celebrate our amazing community! Event at the Scioto County Welcome Center\, 342 2nd Street\, downtown Portsmouth.
X-ALT-DESC;FMTTYPE=text/html:<span style="color: rgb(29\, 33\, 41)\; font-family: Helvetica\, Arial\, sans-serif\; font-size: 14px\; white-space: pre-wrap\; background-color: rgb(255\, 255\, 255)\;">Join the Friends of Portsmouth the evening on March 11th for an update on Friends of Portsmouth initiatives\, upcoming events\, and volunteer opportunities. Ask questions\, share ideas\, and celebrate our amazing community! Event at the Scioto County Welcome Center\, 342 2nd Street\, downtown Portsmouth.</span>
LOCATION:
UID:e.3589.94
SEQUENCE:3
DTSTAMP:20260422T135216Z
URL:https://business.portsmouth.org/events/details/friends-of-portsmouth-town-hall-meeting-94
END:VEVENT

END:VCALENDAR
