BEGIN:VCALENDAR
VERSION:2.0
PRODID:-//ChamberMaster//Event Calendar 2.0//EN
METHOD:PUBLISH
X-PUBLISHED-TTL:P3D
REFRESH-INTERVAL:P3D
CALSCALE:GREGORIAN
BEGIN:VEVENT
DTSTART:20200307T000000Z
DTEND:20200307T030000Z
X-MICROSOFT-CDO-ALLDAYEVENT:FALSE
SUMMARY:Fuddy Meers
DESCRIPTION:A comedy presented by the Portsmouth Little Theatre.  Rated PG-13\, Fuddy Meers is a sinister and zany comedic romp with a dark domestic drama at its heart.
X-ALT-DESC;FMTTYPE=text/html:&nbsp\;<span style="font-family:times new roman\,serif\;"><span style="font-size:12.0pt\;">A comedy presented by the Portsmouth Little Theatre.&nbsp\; Rated PG-13\, Fuddy Meers is a sinister and zany comedic romp with a dark domestic drama at its heart.&nbsp\;&nbsp\;</span></span>
LOCATION:Portsmouth Little Theatre 1117 Lawson Street\, Portsmouth\, OH 45662
UID:e.3589.11
SEQUENCE:3
DTSTAMP:20260422T134832Z
URL:https://business.portsmouth.org/events/details/fuddy-meers-11
END:VEVENT

END:VCALENDAR
