BEGIN:VCALENDAR
VERSION:2.0
PRODID:-//ChamberMaster//Event Calendar 2.0//EN
METHOD:PUBLISH
X-PUBLISHED-TTL:P3D
REFRESH-INTERVAL:P3D
CALSCALE:GREGORIAN
BEGIN:VEVENT
DTSTART:20200210T230000Z
DTEND:20200211T020000Z
X-MICROSOFT-CDO-ALLDAYEVENT:FALSE
SUMMARY:Giovanni’s Monthly Concert
DESCRIPTION:Giovanni's Monthly Concert   The Lucasville Giovanni's presents its monthly concert featuring Blood Bought and Lifted.  Tickets are $10 each and can be purchased at the Lucasville Giovanni's on US 23.  Seating starts at 6 pm and concert at 6:30 pm.  Ticket includes sandwich or pizza\, drink and chips
X-ALT-DESC;FMTTYPE=text/html:<strong><span style="font-family:times new roman\,serif\;"><span style="font-size:12.0pt\;">&nbsp\;Giovanni&rsquo\;s Monthly Concert &ndash\; </span></span></strong><span style="font-family:times new roman\,serif\;"><span style="font-size:12.0pt\;">The Lucasville Giovanni&rsquo\;s presents its monthly concert featuring Blood Bought and Lifted.&nbsp\; Tickets are $10 each and can be purchased at the Lucasville Giovanni&rsquo\;s on US 23.&nbsp\; Seating starts at 6 pm and concert at 6:30 pm.&nbsp\; Ticket includes sandwich or pizza\, drink and chips</span></span>
LOCATION:Lucasville Giovanni's on US 23
UID:e.3589.6
SEQUENCE:3
DTSTAMP:20260422T162900Z
URL:https://business.portsmouth.org/events/details/giovanni-s-monthly-concert-6
END:VEVENT

END:VCALENDAR
