BEGIN:VCALENDAR
VERSION:2.0
PRODID:-//ChamberMaster//Event Calendar 2.0//EN
METHOD:PUBLISH
X-PUBLISHED-TTL:P3D
REFRESH-INTERVAL:P3D
CALSCALE:GREGORIAN
BEGIN:VEVENT
DTSTART;VALUE=DATE:20221001
DTEND;VALUE=DATE:20221002
TRANSP:TRANSPARENT
X-MICROSOFT-CDO-ALLDAYEVENT:TRUE
SUMMARY:Gun Bash Dinner
DESCRIPTION:October 1st - Patriot Friends of NRA Annual Gun Bash dinner at American Legion 471\, 950 Gallia Street in Portsmouth. Doors open at 5 pm -Single tickets: $35.00/Couples/two tickets: $60.00.  Advance tickets sold by Monday Sept 26th\, single ticket: $25.00/couples/two tickets $50.00. All funds raised from this evening of dinner\, games and raffles will go toward our Southern Ohio Friends of NRA grants. These grants are applied for and issued to groups promoting firearms education\, safety\,  recreation and more. With both adult and youth programs. More details can be found at www.friendsofnra.org. For tickets email: rebeccawithlsb@live.com or call 740-727-3935. Checks can be sent to Rebecca Clark\, 1712 11th Street\, Box 166\, Portsmouth\, OH 45662
X-ALT-DESC;FMTTYPE=text/html:<span style="font-size:20px\;"><strong>October 1<sup>st</sup> - Patriot Friends of NRA Annual Gun Bash dinner </strong>at American Legion 471\, 950 Gallia Street in Portsmouth. Doors open at 5 pm -Single tickets: $35.00/Couples/two tickets: $60.00.&nbsp\; Advance tickets sold by Monday Sept 26th\, single ticket: $25.00/couples/two tickets $50.00. All funds raised from this evening of dinner\, games and raffles will go toward our Southern Ohio Friends of NRA grants. These grants are applied for and issued to groups promoting firearms education\, safety\,&nbsp\; recreation and more. With both adult and youth programs. More details can be found at www.friendsofnra.org. For tickets email: rebeccawithlsb@live.com or call 740-727-3935. Checks can be sent to Rebecca Clark\, 1712 11th Street\, Box 166\, Portsmouth\, OH 45662</span><br />\n&nbsp\;
LOCATION:
UID:e.3589.453
SEQUENCE:3
DTSTAMP:20260425T021035Z
URL:https://business.portsmouth.org/events/details/gun-bash-dinner-453
END:VEVENT

END:VCALENDAR
