BEGIN:VCALENDAR
VERSION:2.0
PRODID:-//ChamberMaster//Event Calendar 2.0//EN
METHOD:PUBLISH
X-PUBLISHED-TTL:P3D
REFRESH-INTERVAL:P3D
CALSCALE:GREGORIAN
BEGIN:VEVENT
DTSTART;VALUE=DATE:20241031
DTEND;VALUE=DATE:20241101
TRANSP:TRANSPARENT
X-MICROSOFT-CDO-ALLDAYEVENT:TRUE
SUMMARY:Halloween at Mound Park
DESCRIPTION:Halloween at Mound Park - 5-6:30pm Free event\, Come dressed in your favorite costume. Stop by to pick up treat candies. \n\nCandy distributors\, please sign up online\; portsmouth.connexmoves.org
X-ALT-DESC;FMTTYPE=text/html:Halloween at Mound Park - 5-6:30pm Free event\, Come dressed in your favorite costume. Stop by to pick up treat candies.&nbsp\;<br />\nCandy distributors\, please sign up online\; portsmouth.connexmoves.org&nbsp\;
LOCATION:
UID:e.3589.2349
SEQUENCE:3
DTSTAMP:20260421T193741Z
URL:https://business.portsmouth.org/events/details/halloween-at-mound-park-2349
END:VEVENT

END:VCALENDAR
