BEGIN:VCALENDAR
VERSION:2.0
PRODID:-//ChamberMaster//Event Calendar 2.0//EN
METHOD:PUBLISH
X-PUBLISHED-TTL:P3D
REFRESH-INTERVAL:P3D
CALSCALE:GREGORIAN
BEGIN:VEVENT
DTSTART;VALUE=DATE:20241031
DTEND;VALUE=DATE:20241101
TRANSP:TRANSPARENT
X-MICROSOFT-CDO-ALLDAYEVENT:TRUE
SUMMARY:Halloween Bash
DESCRIPTION:Business trick or treat\, free hot dogs for children\, Costume contest at 6pm and pie walk
X-ALT-DESC;FMTTYPE=text/html:Business trick or treat\, free hot dogs for children\, Costume contest at 6pm and pie walk
LOCATION:429 2nd Street Portsmouth\, Oh 45662
UID:e.3589.2959
SEQUENCE:3
DTSTAMP:20260421T204358Z
URL:https://business.portsmouth.org/events/details/halloween-bash-2959
END:VEVENT

END:VCALENDAR
