BEGIN:VCALENDAR
VERSION:2.0
PRODID:-//ChamberMaster//Event Calendar 2.0//EN
METHOD:PUBLISH
X-PUBLISHED-TTL:P3D
REFRESH-INTERVAL:P3D
CALSCALE:GREGORIAN
BEGIN:VEVENT
DTSTART;VALUE=DATE:20241027
DTEND;VALUE=DATE:20241028
TRANSP:TRANSPARENT
X-MICROSOFT-CDO-ALLDAYEVENT:TRUE
SUMMARY:Halloween Dance
DESCRIPTION:Halloween Dance - costume contest for each age group
X-ALT-DESC;FMTTYPE=text/html:Halloween Dance - costume contest for each age group
LOCATION:Beaver Firehouse SR 335 & 3rd St.
UID:e.3589.2966
SEQUENCE:3
DTSTAMP:20260421T204503Z
URL:https://business.portsmouth.org/events/details/halloween-dance-2966
END:VEVENT

END:VCALENDAR
