BEGIN:VCALENDAR
VERSION:2.0
PRODID:-//ChamberMaster//Event Calendar 2.0//EN
METHOD:PUBLISH
X-PUBLISHED-TTL:P3D
REFRESH-INTERVAL:P3D
CALSCALE:GREGORIAN
BEGIN:VEVENT
DTSTART;VALUE=DATE:20200418
DTEND;VALUE=DATE:20200419
TRANSP:TRANSPARENT
X-MICROSOFT-CDO-ALLDAYEVENT:TRUE
SUMMARY:HamFest
DESCRIPTION:2020 HAMFEST  presented by the Portsmouth Radio Club.  Event will take place at the Ohio National Guard Armory\, 2313 17th Street\, Portsmouth.  Admission is $2 at the door.  Children under 12 free.  Event will feature new and used amateur radio equipment\, lots of door prizes\, 50/50 raffle and Laurel V.E. testing at 10 am.  Tables are free.  Refreshments will be sold.  Contact WX8G Gary Caldwell at 740-250-4955 or garcaldwell@yahoo.com or visit www.portsmouthradioclub.com.
X-ALT-DESC;FMTTYPE=text/html:<strong>2020 HAMFEST&nbsp\; </strong>presented by the Portsmouth Radio Club.&nbsp\; Event will take place at the Ohio National Guard Armory\, 2313 17<sup>th</sup> Street\, Portsmouth.&nbsp\; Admission is $2 at the door.&nbsp\; Children under 12 free.&nbsp\; Event will feature new and used amateur radio equipment\, lots of door prizes\, 50/50 raffle and Laurel V.E. testing at 10 am.&nbsp\; Tables are free.&nbsp\; Refreshments will be sold.&nbsp\; Contact WX8G Gary Caldwell at 740-250-4955 or garcaldwell@yahoo.com or visit <a href="http://www.portsmouthradioclub.com/">www.portsmouthradioclub.com</a>.<br />\n&nbsp\;
LOCATION:Ohio National Guard Armory\, 2313 17th Street\, Portsmouth.
UID:e.3589.58
SEQUENCE:3
DTSTAMP:20260422T122427Z
URL:https://business.portsmouth.org/events/details/hamfest-58
END:VEVENT

END:VCALENDAR
