BEGIN:VCALENDAR
VERSION:2.0
PRODID:-//ChamberMaster//Event Calendar 2.0//EN
METHOD:PUBLISH
X-PUBLISHED-TTL:P3D
REFRESH-INTERVAL:P3D
CALSCALE:GREGORIAN
BEGIN:VEVENT
DTSTART;VALUE=DATE:20200509
DTEND;VALUE=DATE:20200510
TRANSP:TRANSPARENT
X-MICROSOFT-CDO-ALLDAYEVENT:TRUE
SUMMARY:Hike for Hospice
DESCRIPTION:SOMC's Hike for Hospice   a one day hike\, run or walk.  Proceeds benefit the Caritas Fund that makes a difference in the lives of hospice patients and their families.  Find the event on Facebook or call 740-356-4483.
X-ALT-DESC;FMTTYPE=text/html:<strong>SOMC&rsquo\;s Hike for Hospice </strong>&ndash\; a one day hike\, run or walk.&nbsp\; Proceeds benefit the Caritas Fund that makes a difference in the lives of hospice patients and their families.&nbsp\; Find the event on Facebook or call 740-356-4483.&nbsp\;
LOCATION:
UID:e.3589.38
SEQUENCE:3
DTSTAMP:20260422T110211Z
URL:https://business.portsmouth.org/events/details/hike-for-hospice-38
END:VEVENT

END:VCALENDAR
