BEGIN:VCALENDAR
VERSION:2.0
PRODID:-//ChamberMaster//Event Calendar 2.0//EN
METHOD:PUBLISH
X-PUBLISHED-TTL:P3D
REFRESH-INTERVAL:P3D
CALSCALE:GREGORIAN
BEGIN:VEVENT
DTSTART;VALUE=DATE:20241023
DTEND;VALUE=DATE:20241024
TRANSP:TRANSPARENT
X-MICROSOFT-CDO-ALLDAYEVENT:TRUE
SUMMARY:Hill View Trick or Treat
DESCRIPTION:Trick or Treat around the pond with us this spooky season! We have great themed tables for you to enjoy while getting all the candy you could imagine! We will begin Trick or Treating at 6:00 and end at 7:30! Invite your friends/ family and wear your favorite costume!
X-ALT-DESC;FMTTYPE=text/html:<span style="font-family:times new roman\,serif\;"><span style="font-size:12.0pt\;">Trick or Treat around the pond with us this spooky season! We have great themed tables for you to enjoy while getting all the candy you could imagine! We will begin Trick or Treating at 6:00 and end at 7:30! Invite your friends/ family and wear your favorite costume!</span></span>
LOCATION:
UID:e.3589.2953
SEQUENCE:3
DTSTAMP:20260421T204753Z
URL:https://business.portsmouth.org/events/details/hill-view-trick-or-treat-2953
END:VEVENT

END:VCALENDAR
