BEGIN:VCALENDAR
VERSION:2.0
PRODID:-//ChamberMaster//Event Calendar 2.0//EN
METHOD:PUBLISH
X-PUBLISHED-TTL:P3D
REFRESH-INTERVAL:P3D
CALSCALE:GREGORIAN
BEGIN:VEVENT
DTSTART:20200304T133000Z
DTEND:20200305T023000Z
X-MICROSOFT-CDO-ALLDAYEVENT:FALSE
SUMMARY:Hour of Power
DESCRIPTION:MARCH 2020 HOUR OF POWER\n\nA One-Hour Transformational Event\n\nwith Dave Beam\n\nCREATING A CULTURE OF EXCELLENCE \n\nCome and learn how to be a leader that inspires your team to be the best they can be.  Mediocrity and apathy seem to be the norm\, but your life and business need not follow the crowd!!  You can choose to create a stunning place of beauty and astounding customer service.  It is ALL ABOUT leadership.\n\nPORTSMOUTH\, OHIO\n\n     DATE/TIME:  WEDNESDAY\, MARCH 4\, 2020 at 8:30 AM\n\n     LOCATION:   Chamber of Commerce\; 342 Second Street\;\n\n                        Portsmouth\, Ohio   \n\n     RSVP:          Call Lisa Carver at 740-353-7647 or \n\n                        Email: lcarver@portsmouth.org \n\nHour of Power events are sponsored\, so they are absolutely FREE OF CHARGE to you!!  In one hour you will be entertained\, challenged\, and have the opportunity to make a significant positive life and business change.  PLEASE RSVP.  We want to be sure we can accommodate everyone.  There are seating limitations at some venues.\n\nPLEASE VISIT OUR NEW WEBSITE - www.mentordavebeam.com\n\nWe are adding new articles every week.
X-ALT-DESC;FMTTYPE=text/html:<p style="font-family: arial\, verdana\, helvetica\, sans-serif\; font-size: 12px\; background-color: rgb(255\, 255\, 255)\;"><strong><span style="font-size: 21pt\; font-family: 'Trebuchet MS'\, sans-serif\; color: rgb(41\, 128\, 185)\;">MARCH 2020 HOUR OF POWER</span></strong><o:p></o:p></p>\n\n<p style="font-family: arial\, verdana\, helvetica\, sans-serif\; font-size: 12px\; background-color: rgb(255\, 255\, 255)\;"><em><b><span style="font-size: 13.5pt\; font-family: 'Trebuchet MS'\, sans-serif\; color: rgb(41\, 128\, 185)\;">A One-Hour Transformational Event</span></b></em><o:p></o:p></p>\n\n<p style="font-family: arial\, verdana\, helvetica\, sans-serif\; font-size: 12px\; background-color: rgb(255\, 255\, 255)\;"><em><b><span style="font-size: 13.5pt\; font-family: 'Trebuchet MS'\, sans-serif\; color: rgb(41\, 128\, 185)\;">with Dave Beam</span></b></em><o:p></o:p></p>\n\n<p style="font-family: arial\, verdana\, helvetica\, sans-serif\; font-size: 12px\; background-color: rgb(255\, 255\, 255)\;"><em><b><span style="font-size: 27pt\; font-family: Calibri\, sans-serif\; color: rgb(41\, 128\, 185)\;">CREATING A CULTURE OF EXCELLENCE&nbsp\;</span></b></em><o:p></o:p></p>\n\n<p style="font-family: arial\, verdana\, helvetica\, sans-serif\; font-size: 12px\; background-color: rgb(255\, 255\, 255)\;"><strong><i><span style="font-size: 15pt\; font-family: Arial\, sans-serif\; color: rgb(41\, 128\, 185)\;">Come and learn how to be a leader that inspires your team to be the best they can be.&nbsp\; Mediocrity and apathy seem to be the norm\, but your life and business</span></i></strong><strong><span style="font-size: 12pt\; font-family: Calibri\, sans-serif\;">&nbsp\;</span></strong><strong><i><span style="font-size: 15pt\; font-family: Arial\, sans-serif\; color: rgb(41\, 128\, 185)\;">need not follow the crowd!!&nbsp\; You can choose to create a stunning place of beauty and astounding customer service.&nbsp\; It is ALL ABOUT leadership.</span></i></strong><o:p></o:p></p>\n\n<p style="font-family: arial\, verdana\, helvetica\, sans-serif\; font-size: 12px\; background-color: rgb(255\, 255\, 255)\;"><strong><span style="font-size: 12pt\; font-family: 'Trebuchet MS'\, sans-serif\;">PORTSMOUTH\, OHIO</span></strong><o:p></o:p></p>\n\n<p style="font-family: arial\, verdana\, helvetica\, sans-serif\; font-size: 12px\; background-color: rgb(255\, 255\, 255)\;"><span style="font-size: 12pt\; font-family: 'Trebuchet MS'\, sans-serif\;">&nbsp\; &nbsp\; &nbsp\;DATE/TIME: &nbsp\;WEDNESDAY\, MARCH 4\, 2020 at 8:30 AM</span><o:p></o:p></p>\n\n<p style="font-family: arial\, verdana\, helvetica\, sans-serif\; font-size: 12px\; background-color: rgb(255\, 255\, 255)\;"><span style="font-size: 12pt\; font-family: 'Trebuchet MS'\, sans-serif\;">&nbsp\; &nbsp\; &nbsp\;LOCATION: &nbsp\; Chamber of Commerce\; 342 Second Street\;<br />\n&nbsp\; &nbsp\; &nbsp\; &nbsp\; &nbsp\; &nbsp\; &nbsp\; &nbsp\; &nbsp\; &nbsp\; &nbsp\; &nbsp\; Portsmouth\, Ohio &nbsp\;&nbsp\;</span><o:p></o:p></p>\n\n<p style="font-family: arial\, verdana\, helvetica\, sans-serif\; font-size: 12px\; background-color: rgb(255\, 255\, 255)\;"><span style="font-size: 12pt\; font-family: 'Trebuchet MS'\, sans-serif\;">&nbsp\; &nbsp\; &nbsp\;RSVP:&nbsp\; &nbsp\; &nbsp\; &nbsp\; &nbsp\; Call Lisa Carver at 740-353-7647 or&nbsp\;</span><o:p></o:p></p>\n\n<p style="font-family: arial\, verdana\, helvetica\, sans-serif\; font-size: 12px\; background-color: rgb(255\, 255\, 255)\;"><span style="font-size: 12pt\; font-family: 'Trebuchet MS'\, sans-serif\;">&nbsp\; &nbsp\; &nbsp\; &nbsp\; &nbsp\; &nbsp\; &nbsp\; &nbsp\; &nbsp\; &nbsp\; &nbsp\; &nbsp\; Email:</span><span style="color: rgb(41\, 128\, 185)\;">&nbsp\;</span><span style="font-size: 12pt\; font-family: 'Trebuchet MS'\, sans-serif\;"><span style="color: rgb(41\, 128\, 185)\;"><a href="mailto:lcarver@portsmouth.org" style="color: rgb(5\, 99\, 193)\;" target="_blank">lcarver@portsmouth.or</a>g</span></span><span style="font-size: 13.5pt\; font-family: 'Trebuchet MS'\, sans-serif\;">&nbsp\;</span></p>\n\n<p style="font-family: arial\, verdana\, helvetica\, sans-serif\; font-size: 12px\; background-color: rgb(255\, 255\, 255)\;"><span style="font-size: 13.5pt\; font-family: 'Trebuchet MS'\, sans-serif\;">Hour of Power events are sponsored\, so they are absolutely</span><span style="font-size: 13.5pt\; font-family: 'Trebuchet MS'\, sans-serif\; color: red\;">&nbsp\;</span><strong><span style="font-size: 13.5pt\; font-family: 'Trebuchet MS'\, sans-serif\; color: rgb(41\, 128\, 185)\;">FREE OF CHARGE</span></strong><span style="font-size: 13.5pt\; font-family: 'Trebuchet MS'\, sans-serif\;">&nbsp\;to you!! &nbsp\;In one hour you will be entertained\, challenged\, and have the opportunity to make a significant positive life and business change.&nbsp\;&nbsp\;</span><strong><span style="font-size: 13.5pt\; font-family: 'Trebuchet MS'\, sans-serif\; color: rgb(41\, 128\, 185)\;">PLEASE RSVP.</span></strong><span style="font-size: 13.5pt\; font-family: 'Trebuchet MS'\, sans-serif\; color: rgb(41\, 128\, 185)\;">&nbsp\;</span><span style="font-size: 13.5pt\; font-family: 'Trebuchet MS'\, sans-serif\;">&nbsp\;We want to be sure we can accommodate everyone.&nbsp\; There are seating limitations at some venues.</span><o:p></o:p></p>\n\n<p style="font-family: arial\, verdana\, helvetica\, sans-serif\; font-size: 12px\; background-color: rgb(255\, 255\, 255)\;"><strong><span style="font-size: 15pt\; font-family: Calibri\, sans-serif\; color: rgb(243\, 156\, 18)\;">PLEASE VISIT OUR NEW WEBSITE -&nbsp\;<a href="http://www.mentordavebeam.com/" style="color: rgb(5\, 99\, 193)\;" target="_blank"><span style="font-weight: normal\;">www.mentordavebeam.com</span></a></span></strong><o:p></o:p></p>\n\n<p style="font-family: arial\, verdana\, helvetica\, sans-serif\; font-size: 12px\; background-color: rgb(255\, 255\, 255)\;"><strong><span style="font-size: 15pt\; font-family: Calibri\, sans-serif\; color: rgb(243\, 156\, 18)\;">We are adding new articles every week.</span></strong></p>\n
LOCATION:Scioto County Welcome Center 342 2nd Street\, Downtown Portsmouth
UID:e.3589.64
SEQUENCE:3
DTSTAMP:20260422T135003Z
URL:https://business.portsmouth.org/events/details/hour-of-power-64
END:VEVENT

END:VCALENDAR
