BEGIN:VCALENDAR
VERSION:2.0
PRODID:-//ChamberMaster//Event Calendar 2.0//EN
METHOD:PUBLISH
X-PUBLISHED-TTL:P3D
REFRESH-INTERVAL:P3D
CALSCALE:GREGORIAN
BEGIN:VEVENT
DTSTART:20200902T123000Z
DTEND:20200903T013000Z
X-MICROSOFT-CDO-ALLDAYEVENT:FALSE
SUMMARY:Hour of Power
DESCRIPTION:September 2020 HOUR OF POWER\n\nA One-Hour Transformational Event\n\nwith Dave Beam\n\n \n\nKind AND Effective Management\n\n\nCome learn a management style that actually gets results and attracts and retains great employees....really!!
X-ALT-DESC;FMTTYPE=text/html:<p style="font-family: arial\, verdana\, helvetica\, sans-serif\; font-size: 12px\; background-color: rgb(255\, 255\, 255)\;"><strong><span style="font-size: 21pt\; font-family: 'Trebuchet MS'\, sans-serif\; color: rgb(41\, 128\, 185)\;">September 2020 HOUR OF POWER</span></strong><o:p></o:p></p>\n\n<p style="font-family: arial\, verdana\, helvetica\, sans-serif\; font-size: 12px\; background-color: rgb(255\, 255\, 255)\;"><em><b><span style="font-size: 13.5pt\; font-family: 'Trebuchet MS'\, sans-serif\; color: rgb(41\, 128\, 185)\;">A One-Hour Transformational Event</span></b></em><o:p></o:p></p>\n\n<p style="font-family: arial\, verdana\, helvetica\, sans-serif\; font-size: 12px\; background-color: rgb(255\, 255\, 255)\;"><em><b><span style="font-size: 13.5pt\; font-family: 'Trebuchet MS'\, sans-serif\; color: rgb(41\, 128\, 185)\;">with Dave Beam</span></b></em><o:p></o:p></p>\n\n<p style="background-color: rgb(255\, 255\, 255)\;">&nbsp\;</p>\n\n<h2 class="_3ztLg _3qNI6 _16T_5" data-hook="event-title" style="margin: 0px 0px 0.4em\; padding: 0px\; border: 0px\; outline: 0px\; vertical-align: baseline\; background-image: initial\; background-position: 0px 0px\; background-size: initial\; background-repeat: initial\; background-attachment: initial\; background-origin: initial\; background-clip: initial\; font-style: italic\; font-variant-numeric: normal\; font-variant-east-asian: normal\; font-weight: normal\; font-stretch: normal\; font-size: 60px\; line-height: 1.4em\; font-family: caudex\, serif\; color: rgb(47\, 47\, 48)\; text-align: center\;">Kind AND Effective Management</h2>\n\n<div class="EMWel" style="margin: 18px 0px 0px\; padding: 0px\; border: 0px\; outline: 0px\; vertical-align: baseline\; background-image: initial\; background-position: 0px 0px\; background-size: initial\; background-repeat: initial\; background-attachment: initial\; background-origin: initial\; background-clip: initial\; font-family: Arial\, Helvetica\, sans-serif\; font-size: 10px\; text-align: center\;">\n<div class="_3IV2J _2uYIK _3UuNO" data-hook="event-description" style="margin: 0px\; padding: 0px\; border: 0px\; outline: 0px\; vertical-align: baseline\; background-image: initial\; background-position: 0px 0px\; background-size: initial\; background-repeat: initial\; background-attachment: initial\; background-origin: initial\; background-clip: initial\; font-variant-numeric: normal\; font-variant-east-asian: normal\; font-stretch: normal\; font-size: 16px\; line-height: 1.4em\; font-family: forum\, serif\; display: inline-block\; max-width: 560px\; color: rgb(47\, 47\, 48)\;">Come learn a management style that actually gets results and attracts and retains great employees....really!!</div>\n</div>\n
LOCATION:Virtual - please call the Chamber of Commerce at 740-353-7647 to register.
UID:e.3589.70
SEQUENCE:3
DTSTAMP:20260420T072831Z
URL:https://business.portsmouth.org/events/details/hour-of-power-70
END:VEVENT

END:VCALENDAR
