BEGIN:VCALENDAR
VERSION:2.0
PRODID:-//ChamberMaster//Event Calendar 2.0//EN
METHOD:PUBLISH
X-PUBLISHED-TTL:P3D
REFRESH-INTERVAL:P3D
CALSCALE:GREGORIAN
BEGIN:VEVENT
DTSTART:20201202T133000Z
DTEND:20201203T023000Z
X-MICROSOFT-CDO-ALLDAYEVENT:FALSE
SUMMARY:Hour of Power
DESCRIPTION:December 2020 HOUR OF POWER\n\n \n \n\n"Leading Difficult Conversations" \n\nWEDNESDAY DECEMBER 2\, 2020\; 8:30 - 9:30 AM\n\nOne-Hour On-Line FREE Transformational Event\n\n \n\nI have been helping people improve themselves and their businesses for over 17 years.  Leaders\, supervisors\, managers\, business owners\, parents\, and human beings in general are confronted with difficult conversations.  I teach effective leaders how to communicate difficult messages with great clarity and kindness.  Everything from employee performance issues\, dismissals\, and challenging workplace changes.  Conflict resolution\, confusion\, misunderstandings\, and departmental silos?  Business partnerships - need I say more?  Come learn the mindset and skills necessary to handle these situations well and create benefit for all.\n\nThis FREE event will be provided via ZOOM video on\n\nWednesday December 2\, 2020 at 8:30 - 9:30 AM\n\nRegister NOW on-line for this event on the BBS website at  https://www.mentordavebeam.com/events\n\nOnce you have registered\, we will e-mail you your personal invitation and instructions for attending the event.  We look forward to seeing you on Wednesday December 2.
X-ALT-DESC;FMTTYPE=text/html:<p style="font-family: arial\, verdana\, helvetica\, sans-serif\; font-size: 12px\; background-color: rgb(255\, 255\, 255)\;"><strong><span style="font-size: 21pt\; font-family: 'Trebuchet MS'\, sans-serif\; color: rgb(41\, 128\, 185)\;">December 2020 HOUR OF POWER</span></strong><o:p></o:p></p>\n\n<p style="font-family: arial\, verdana\, helvetica\, sans-serif\; font-size: 12px\; background-color: rgb(255\, 255\, 255)\;">&nbsp\;</p>\n&nbsp\;\n\n<p style="font-family: arial\, verdana\, helvetica\, sans-serif\; font-size: 12px\; background-color: rgb(255\, 255\, 255)\;"><b><i><span style="font-size: 27pt\; font-family: Arial\, sans-serif\;">&quot\;Leading Difficult Conversations&quot\;&nbsp\;</span></i></b><o:p></o:p></p>\n\n<p style="font-family: arial\, verdana\, helvetica\, sans-serif\; font-size: 12px\; background-color: rgb(255\, 255\, 255)\;"><strong><span style="font-size: 16.5pt\; font-family: Arial\, sans-serif\;">WEDNESDAY DECEMBER 2\, 2020\; 8:30 - 9:30 AM</span></strong><o:p></o:p></p>\n\n<p style="font-family: arial\, verdana\, helvetica\, sans-serif\; font-size: 12px\; background-color: rgb(255\, 255\, 255)\;"><em><b><span style="font-size: 15pt\; font-family: &quot\;Trebuchet MS&quot\;\, sans-serif\; color: rgb(192\, 57\, 43)\;">One-Hour On-Line FREE Transformational Event</span></b></em><br />\n&nbsp\;<o:p></o:p></p>\n\n<p style="font-family: arial\, verdana\, helvetica\, sans-serif\; font-size: 12px\; background-color: rgb(255\, 255\, 255)\;"><i><span style="font-size: 15pt\; font-family: &quot\;Times New Roman&quot\;\, serif\;">I have been helping people&nbsp\;improve themselves and their businesses&nbsp\;for over 17 years. &nbsp\;</span></i><em><span style="font-size: 15pt\; font-family: Calibri\, sans-serif\;">Leaders\, supervisors\, managers\, business owners\, parents\, and human beings in general are confronted with difficult conversations.&nbsp\; I teach effective leaders how to communicate difficult messages with great clarity and kindness. &nbsp\;Everything from employee performance issues\, dismissals\, and challenging workplace changes.&nbsp\; Conflict resolution\,&nbsp\;confusion\, misunderstandings\, and departmental silos? &nbsp\;Business partnerships - need I say more? &nbsp\;Come learn the mindset and skills necessary to handle these situations well and create benefit for all.</span></em><o:p></o:p></p>\n\n<p style="font-family: arial\, verdana\, helvetica\, sans-serif\; font-size: 12px\; background-color: rgb(255\, 255\, 255)\;"><span style="font-size: 13.5pt\; font-family: Tahoma\, sans-serif\;">This&nbsp\;<strong><span style="color: rgb(192\, 57\, 43)\;">FREE</span></strong>&nbsp\;event will be provided via ZOOM video on</span><o:p></o:p></p>\n\n<p style="font-family: arial\, verdana\, helvetica\, sans-serif\; font-size: 12px\; background-color: rgb(255\, 255\, 255)\;"><strong><span style="font-size: 13.5pt\; font-family: Tahoma\, sans-serif\;">Wednesday December 2\, 2020&nbsp\;at 8:30 - 9:30 AM</span></strong><o:p></o:p></p>\n\n<p style="font-family: arial\, verdana\, helvetica\, sans-serif\; font-size: 12px\; background-color: rgb(255\, 255\, 255)\;"><strong><span style="font-size: 16pt\; font-family: Tahoma\, sans-serif\; color: rgb(192\, 57\, 43)\;">Register NOW on-line for this event on the BBS website at&nbsp\;</span></strong><strong><span style="font-family: Calibri\, sans-serif\;">&nbsp\;</span></strong><span style="font-size: 16.5pt\;"><a href="https://click.icptrack.com/icp/relay.php?r=15291825&amp\;msgid=534586&amp\;act=AXAZ&amp\;c=871756&amp\;destination=https%3A%2F%2Fwww.mentordavebeam.com%2Fevents&amp\;cf=7240&amp\;v=00e26f347e4a06ad244ea2989851608443688542369f61925aa31eb835a34d46" style="color: rgb(5\, 99\, 193)\;" target="_blank">https://www.mentordavebeam.com/events</a></span><o:p></o:p></p>\n\n<p style="font-family: arial\, verdana\, helvetica\, sans-serif\; font-size: 12px\; background-color: rgb(255\, 255\, 255)\;"><span style="font-size: 13.5pt\; font-family: &quot\;Times New Roman&quot\;\, serif\;">Once you have registered\, we will e-mail you your personal invitation and instructions for attending the event.&nbsp\; We look forward to seeing you on Wednesday December 2.</span></p>\n\n<p style="font-family: arial\, verdana\, helvetica\, sans-serif\; font-size: 12px\; background-color: rgb(255\, 255\, 255)\;"><o:p></o:p></p>\n\n<p style="background-color: rgb(255\, 255\, 255)\;">&nbsp\;</p>\n
LOCATION:Virtual via the ZOOM Platform Registration is required. Please call 740-353-7647 to register
UID:e.3589.73
SEQUENCE:3
DTSTAMP:20260420T035654Z
URL:https://business.portsmouth.org/events/details/hour-of-power-73
END:VEVENT

END:VCALENDAR
