BEGIN:VCALENDAR
VERSION:2.0
PRODID:-//ChamberMaster//Event Calendar 2.0//EN
METHOD:PUBLISH
X-PUBLISHED-TTL:P3D
REFRESH-INTERVAL:P3D
CALSCALE:GREGORIAN
BEGIN:VEVENT
DTSTART:20240508T210000Z
DTEND:20240509T000000Z
X-MICROSOFT-CDO-ALLDAYEVENT:FALSE
SUMMARY:Ignite Portsmouth Boot Camp
DESCRIPTION:Ignite Portsmouth is an 8 week boot camp and pitch competition that helps individuals with a business idea - or plans to expand their existing business - achieve success. The program culminates in a pitch competition awarding over $10\,000 in seed funding.
X-ALT-DESC;FMTTYPE=text/html:Ignite Portsmouth is an 8 week boot camp and pitch competition that helps individuals with a business idea - or plans to expand their existing business - achieve success. The program culminates in a pitch competition awarding over $10\,000 in seed funding.
LOCATION:SSU Kricker Innovation Hub\, 221 Chillicothe Street
UID:e.3589.2365
SEQUENCE:3
DTSTAMP:20260425T142305Z
URL:https://business.portsmouth.org/events/details/ignite-portsmouth-boot-camp-2365
END:VEVENT

END:VCALENDAR
