BEGIN:VCALENDAR
VERSION:2.0
PRODID:-//ChamberMaster//Event Calendar 2.0//EN
METHOD:PUBLISH
X-PUBLISHED-TTL:P3D
REFRESH-INTERVAL:P3D
CALSCALE:GREGORIAN
BEGIN:VEVENT
DTSTART;VALUE=DATE:20200425
DTEND;VALUE=DATE:20200426
TRANSP:TRANSPARENT
X-MICROSOFT-CDO-ALLDAYEVENT:TRUE
SUMMARY:Jaycees Trout Derby
DESCRIPTION:Portsmouth Jaycees Trout Derby at Roosevelt Lake in West Portsmouth.  Competition begins at 6:30 am.
X-ALT-DESC;FMTTYPE=text/html:<strong><span style="font-size:22px\;">Portsmouth Jaycees Trout Derby at Roosevelt Lake in West Portsmouth.&nbsp\; Competition begins at 6:30 am.&nbsp\;</span></strong>
LOCATION:Roosevelt Lake\, West Portsmouth\, OH
UID:e.3589.118
SEQUENCE:3
DTSTAMP:20260422T122549Z
URL:https://business.portsmouth.org/events/details/jaycees-trout-derby-118
END:VEVENT

END:VCALENDAR
