BEGIN:VCALENDAR
VERSION:2.0
PRODID:-//ChamberMaster//Event Calendar 2.0//EN
METHOD:PUBLISH
X-PUBLISHED-TTL:P3D
REFRESH-INTERVAL:P3D
CALSCALE:GREGORIAN
BEGIN:VEVENT
DTSTART;VALUE=DATE:20200327
DTEND;VALUE=DATE:20200329
TRANSP:TRANSPARENT
X-MICROSOFT-CDO-ALLDAYEVENT:TRUE
SUMMARY:Jigsaw Puzzle Competition
DESCRIPTION:Teams of two compete to see who can solve a 500 piece puzzle first in two hours.  Different puzzle each night of the competition.
X-ALT-DESC;FMTTYPE=text/html:<span style="font-size:18px\;"><strong>Teams of two compete to see who can solve a 500 piece puzzle first in two hours.&nbsp\; Different puzzle each night of the competition.&nbsp\;&nbsp\;</strong></span>
LOCATION:Shawnee State Park Lodge
UID:e.3589.116
SEQUENCE:3
DTSTAMP:20260422T134853Z
URL:https://business.portsmouth.org/events/details/jigsaw-puzzle-competition-116
END:VEVENT

END:VCALENDAR
