BEGIN:VCALENDAR
VERSION:2.0
PRODID:-//ChamberMaster//Event Calendar 2.0//EN
METHOD:PUBLISH
X-PUBLISHED-TTL:P3D
REFRESH-INTERVAL:P3D
CALSCALE:GREGORIAN
BEGIN:VEVENT
DTSTART:20200417T110000Z
DTEND:20200417T180000Z
X-MICROSOFT-CDO-ALLDAYEVENT:FALSE
SUMMARY:Kiwanis Pancake Day
DESCRIPTION:The Kiwanis Club of Portsmouth hosts its annual Pancake Festival on Wednesday\, April 17\, from 7 a.m. to 2 p.m. at the Cornerstone Methodist Church\, 808 Offnere St. Portsmouth. Come out and support our club as we raise funds to help our area kids. Get all you can eat pancakes for $7. Tickets are available from any Kiwanis member or at the door.
X-ALT-DESC;FMTTYPE=text/html:<strong><span style="color:#0000CD\;"><span style="font-size:24px\;"><span style="font-family: Helvetica\, Arial\, sans-serif\; white-space: pre-wrap\; background-color: rgb(255\, 255\, 255)\;">The Kiwanis Club of Portsmouth hosts its annual Pancake Festival on Wednesday\, April 17\, from 7 a.m. to 2 p.m. at the Cornerstone Methodist Church\, 808 Offnere St. Portsmouth. Come out and support our club as we raise funds to help our area kids. Get all you can eat pancakes for $7. Tickets are available from any Kiwanis member or at the door. </span></span></span></strong>
LOCATION:Cornerstone Church\, 808 Offnere Street\, Portsmouth
UID:e.3589.108
SEQUENCE:3
DTSTAMP:20260422T122537Z
URL:https://business.portsmouth.org/events/details/kiwanis-pancake-day-108
END:VEVENT

END:VCALENDAR
