BEGIN:VCALENDAR
VERSION:2.0
PRODID:-//ChamberMaster//Event Calendar 2.0//EN
METHOD:PUBLISH
X-PUBLISHED-TTL:P3D
REFRESH-INTERVAL:P3D
CALSCALE:GREGORIAN
BEGIN:VEVENT
DTSTART:20250531T160000Z
DTEND:20250531T200000Z
X-MICROSOFT-CDO-ALLDAYEVENT:FALSE
SUMMARY:Landscape Drawing Workshop with Rod Bouc
DESCRIPTION:Join artist Rod Bouc for a day of landscape drawing on the grounds of the Tremper Mound and Works. Bring your favorite drawing and painting materials and enjoy a creative day outside! Picnics welcome. This free event is sponsored by the Southern Ohio Museum and Cultural Center. Save your spot for this free workshop by registering at this link: https://tinyurl.com/bda67zxt
X-ALT-DESC;FMTTYPE=text/html:Join artist Rod Bouc for a day of landscape drawing on the grounds of the Tremper Mound and Works. Bring your favorite drawing and painting materials and enjoy a creative day outside! Picnics welcome. This free event is sponsored by the Southern Ohio Museum and Cultural Center. Save your spot for this free workshop by registering at this link: https://tinyurl.com/bda67zxt
LOCATION:Tremper Mound and Works 20580 SR-73 McDermott\, OH 45663
UID:e.3589.3032
SEQUENCE:3
DTSTAMP:20260420T115331Z
URL:https://business.portsmouth.org/events/details/landscape-drawing-workshop-with-rod-bouc-3032
END:VEVENT

END:VCALENDAR
