BEGIN:VCALENDAR
VERSION:2.0
PRODID:-//ChamberMaster//Event Calendar 2.0//EN
METHOD:PUBLISH
X-PUBLISHED-TTL:P3D
REFRESH-INTERVAL:P3D
CALSCALE:GREGORIAN
BEGIN:VEVENT
DTSTART;VALUE=DATE:20221027
DTEND;VALUE=DATE:20221028
TRANSP:TRANSPARENT
X-MICROSOFT-CDO-ALLDAYEVENT:TRUE
SUMMARY:Legally Blond
DESCRIPTION:October 27th  - Legally Blonde the Musical at the Vern Riffe Center - This fabulously fun award-winning musical\, based on the adored movie\, Legally Blonde\, The Musical\, follows the transformation of Elle Woods as she tackles stereotypes and scandal in pursuit of her dreams. For more information contact the McKinley Box Office at 740-351-3600.
X-ALT-DESC;FMTTYPE=text/html:<span style="font-size:20px\;"><strong>October 27<sup>th</sup> &nbsp\;- Legally Blonde the Musical at the Vern Riffe Center - </strong>This fabulously fun award-winning musical\, based on the adored movie\, Legally Blonde\, The Musical\, follows the transformation of Elle Woods as she tackles stereotypes and scandal in pursuit of her dreams. For more information contact the McKinley Box Office at 740-351-3600.&nbsp\;</span>
LOCATION:
UID:e.3589.435
SEQUENCE:3
DTSTAMP:20260425T021106Z
URL:https://business.portsmouth.org/events/details/legally-blond-435
END:VEVENT

END:VCALENDAR
