BEGIN:VCALENDAR
VERSION:2.0
PRODID:-//ChamberMaster//Event Calendar 2.0//EN
METHOD:PUBLISH
X-PUBLISHED-TTL:P3D
REFRESH-INTERVAL:P3D
CALSCALE:GREGORIAN
BEGIN:VEVENT
DTSTART:20200425T230000Z
DTEND:20200427T010000Z
X-MICROSOFT-CDO-ALLDAYEVENT:FALSE
SUMMARY:Lucasville Trade Days
DESCRIPTION:Lucasville Trade Days at the Scioto County Fairgrounds - 1193 Fairground Rd\, Lucasville\, OH.  Free parking\, admission is $4.
X-ALT-DESC;FMTTYPE=text/html:<strong>&nbsp\;Lucasville Trade Days at the Scioto County Fairgrounds -</strong> 1193 Fairground Rd\, Lucasville\, OH.&nbsp\; Free parking\, admission is $4.&nbsp\;
LOCATION:
UID:e.3589.33
SEQUENCE:3
DTSTAMP:20260422T135201Z
URL:https://business.portsmouth.org/events/details/lucasville-trade-days-33
END:VEVENT

END:VCALENDAR
