BEGIN:VCALENDAR
VERSION:2.0
PRODID:-//ChamberMaster//Event Calendar 2.0//EN
METHOD:PUBLISH
X-PUBLISHED-TTL:P3D
REFRESH-INTERVAL:P3D
CALSCALE:GREGORIAN
BEGIN:VEVENT
DTSTART;VALUE=DATE:20240913
DTEND;VALUE=DATE:20240916
TRANSP:TRANSPARENT
X-MICROSOFT-CDO-ALLDAYEVENT:TRUE
SUMMARY:Lucasville Trade Days
DESCRIPTION:September 23rd & 24th  - Lucasville Trade Days at the Scioto County Fairgrounds in Lucasville.  Large swap meet where you find just about anything.  Call 937-728-6643 for more information.  Or visit their website at www.lucasvilletradedays.com.
X-ALT-DESC;FMTTYPE=text/html:<br />\n<br />\n<strong><span style="font-size:22px\;">September 23rd &amp\; 24th&nbsp\; - Lucasville Trade </span></strong><span style="font-size:22px\;">Days at the Scioto County Fairgrounds in Lucasville.&nbsp\; Large swap meet where you find just about anything.&nbsp\; Call 937-728-6643 for more information.&nbsp\; Or visit their website at www.lucasvilletradedays.com.&nbsp\;</span>
LOCATION:
UID:e.3589.529
SEQUENCE:3
DTSTAMP:20260420T062229Z
URL:https://business.portsmouth.org/events/details/lucasville-trade-days-529
END:VEVENT

END:VCALENDAR
