BEGIN:VCALENDAR
VERSION:2.0
PRODID:-//ChamberMaster//Event Calendar 2.0//EN
METHOD:PUBLISH
X-PUBLISHED-TTL:P3D
REFRESH-INTERVAL:P3D
CALSCALE:GREGORIAN
BEGIN:VEVENT
DTSTART;VALUE=DATE:20241012
DTEND;VALUE=DATE:20241013
TRANSP:TRANSPARENT
X-MICROSOFT-CDO-ALLDAYEVENT:TRUE
SUMMARY:Maker's Market
DESCRIPTION:Ignite Appalachia Maker Market is an upscale outdoor market featuring original art\, antiques\, clothing\, jewelry\, handmade treasures\, architectural salvage\, outdoor furnishings\, artisan foods\, seasonal plantings\, and much more.. Note to Vendors   Limited space applications required by Sept 30th  www.igniteappalachia.com
X-ALT-DESC;FMTTYPE=text/html:<span style="font-family:times new roman\,serif\;"><span style="font-size:12.0pt\;">Ignite Appalachia Maker Market is an upscale outdoor market featuring original art\, antiques\, clothing\, jewelry\, handmade treasures\, architectural salvage\, outdoor furnishings\, artisan foods\, seasonal plantings\, and much more.. Note to Vendors &ndash\; Limited space applications required by Sept 30<sup>th</sup>&nbsp\;&nbsp\;<a href="http://www.igniteappalachia.com/">www.igniteappalachia.com</a></span></span>
LOCATION:Shawnee State University 940 Second St. Portsmouth\, Oh 45660
UID:e.3589.2942
SEQUENCE:3
DTSTAMP:20260421T204530Z
URL:https://business.portsmouth.org/events/details/maker-s-market-2942
END:VEVENT

END:VCALENDAR
