BEGIN:VCALENDAR
VERSION:2.0
PRODID:-//ChamberMaster//Event Calendar 2.0//EN
METHOD:PUBLISH
X-PUBLISHED-TTL:P3D
REFRESH-INTERVAL:P3D
CALSCALE:GREGORIAN
BEGIN:VEVENT
DTSTART;VALUE=DATE:20221022
DTEND;VALUE=DATE:20221023
TRANSP:TRANSPARENT
X-MICROSOFT-CDO-ALLDAYEVENT:TRUE
SUMMARY:Movie Under the Stars
DESCRIPTION:October 22nd   Movie Under the Stars presented by the Portsmouth Motorcycle Club at 101 Front Street in Portsmouth.  They'll be screening Hocus Pocus 2 at 6:30.  Free admission with snacks available for purchase.  Costumes encouraged.  Bring your own chair or blanket to enjoy the movie.
X-ALT-DESC;FMTTYPE=text/html:<span style="font-size:20px\;"><strong>October 22<sup>nd</sup> &ndash\; Movie Under the Stars </strong>presented by the Portsmouth Motorcycle Club at 101 Front Street in Portsmouth.&nbsp\; They&rsquo\;ll be screening Hocus Pocus 2 at 6:30.&nbsp\; Free admission with snacks available for purchase.&nbsp\; Costumes encouraged.&nbsp\; Bring your own chair or blanket to enjoy the movie.&nbsp\;</span><br />\n&nbsp\;
LOCATION:
UID:e.3589.454
SEQUENCE:3
DTSTAMP:20260425T021252Z
URL:https://business.portsmouth.org/events/details/movie-under-the-stars-454
END:VEVENT

END:VCALENDAR
