BEGIN:VCALENDAR
VERSION:2.0
PRODID:-//ChamberMaster//Event Calendar 2.0//EN
METHOD:PUBLISH
X-PUBLISHED-TTL:P3D
REFRESH-INTERVAL:P3D
CALSCALE:GREGORIAN
BEGIN:VEVENT
DTSTART;VALUE=DATE:20200502
DTEND;VALUE=DATE:20200503
TRANSP:TRANSPARENT
X-MICROSOFT-CDO-ALLDAYEVENT:TRUE
SUMMARY:MSP Spring Clean Up
DESCRIPTION:Main Street Portsmouth's Spring Cleanup from 11 am   5 pm.  For more information\, call MSP at 740-464-0203.
X-ALT-DESC;FMTTYPE=text/html:<strong>Main Street Portsmouth&rsquo\;s Spring Cleanup from 11 am &ndash\; 5 pm.&nbsp\; </strong>For more information\, call MSP at 740-464-0203.&nbsp\;<br />\n&nbsp\;
LOCATION:
UID:e.3589.35
SEQUENCE:3
DTSTAMP:20260422T110154Z
URL:https://business.portsmouth.org/events/details/msp-spring-clean-up-35
END:VEVENT

END:VCALENDAR
