BEGIN:VCALENDAR
VERSION:2.0
PRODID:-//ChamberMaster//Event Calendar 2.0//EN
METHOD:PUBLISH
X-PUBLISHED-TTL:P3D
REFRESH-INTERVAL:P3D
CALSCALE:GREGORIAN
BEGIN:VEVENT
DTSTART:20240216T230000Z
DTEND:20240217T020000Z
X-MICROSOFT-CDO-ALLDAYEVENT:FALSE
SUMMARY:Murder Mystery | Goering's Diamonds
DESCRIPTION:It's 1945 near the end of World War II. The location is a train station in Lyon\, France where an international group of suspects have all gathered to try and steal a suitcase of diamonds from an American Army Officer. The result is deadly. Get the details here: https://www.shawneeparklodge.com/specials/murder-mystery-event-packages/goerings-diamonds-murder-mystery
X-ALT-DESC;FMTTYPE=text/html:It&rsquo\;s 1945 near the end of World War II. The location is a train station in Lyon\, France where an international group of suspects have all gathered to try and steal a suitcase of diamonds from an American Army Officer. The result is deadly. Get the details here: https://www.shawneeparklodge.com/specials/murder-mystery-event-packages/goerings-diamonds-murder-mystery
LOCATION:Shawnee State Park Lodge
UID:e.3589.2235
SEQUENCE:3
DTSTAMP:20260425T103125Z
URL:https://business.portsmouth.org/events/details/murder-mystery-goering-s-diamonds-2235
END:VEVENT

END:VCALENDAR
