BEGIN:VCALENDAR
VERSION:2.0
PRODID:-//ChamberMaster//Event Calendar 2.0//EN
METHOD:PUBLISH
X-PUBLISHED-TTL:P3D
REFRESH-INTERVAL:P3D
CALSCALE:GREGORIAN
BEGIN:VEVENT
DTSTART:20210422T130000Z
DTEND:20210422T210000Z
X-MICROSOFT-CDO-ALLDAYEVENT:FALSE
SUMMARY:Navigating Addiction Training
DESCRIPTION:Scioto County\n\nThursday\, April 22\, 2021 9:00am ? 5:00pm EST\n\n \n\nYou are invited to attend enCompass\, a comprehensive training on navigating addiction for Ohioans. \n\n \n\nThe training is sponsored by Governor DeWine?s RecoveryOhio Initiative\, the Addiction Policy Forum\, ADAMHS Board of Adams\, Lawrence and Scioto Counties and the Gallia-Jackson-Meigs ADAMHS Board. \n\n \n\nThis 8-hour training session is virtual and open to all adults who want to learn more about addiction and have the skills to respond. Attendees often include families\, friends\, caregivers\, clergy\, law enforcement\, first responders\, healthcare providers\, employers\, educators\, community-based service providers\, and anyone interested in learning how to respond to substance use/co-occurring disorders. \n\n \n\nLike CPR\, the course is designed to build the skills to support and respond to someone who needs help. The training will also help participants navigate the resources available in your own community.\n\n \n\nenCompass participants will learn:\n\n· How to identify the signs and symptoms of addiction\;\n\n· How to help an individual in need of support\; \n\n· The effects of stigma on individuals and families\; and\n\n· How to set healthy boundaries and principles of self-care.\n\n \n\nAll participants receive a certificate at the completion of the course.\n\n\n\nRegister Here
X-ALT-DESC;FMTTYPE=text/html:<p class="XzvDs _208Ie ljrnk blog-post-text-font blog-post-text-color _2QAo- _1XrpH _1-QUK ljrnk public-DraftStyleDefault-block-depth0 public-DraftStyleDefault-text-ltr" id="viewer-1ktv4" style="margin: 0px\; padding: 0px\; border: 0px\; outline: 0px\; vertical-align: baseline\; background: rgb(255\, 255\, 255)\; font-variant-numeric: inherit\; font-variant-east-asian: inherit\; font-stretch: inherit\; font-size: 18px\; line-height: 1.5\; font-family: &quot\;open sans&quot\;\, sans-serif\; -webkit-tap-highlight-color: rgba(0\, 0\, 0\, 0)\; box-sizing: inherit\; direction: ltr\; min-height: var(--ricos-custom-p-min-height\,unset)\; color: rgb(47\, 46\, 46)\; white-space: pre-wrap\; text-align: center !important\;"><span class="vkIF2 public-DraftStyleDefault-ltr" style="margin: 0px\; padding: 0px\; border: 0px\; outline: 0px\; vertical-align: baseline\; background: transparent\; font: inherit\; -webkit-tap-highlight-color: rgba(0\, 0\, 0\, 0)\; box-sizing: inherit\; direction: ltr\; display: block\;"><span style="margin: 0px\; padding: 0px\; border: 0px\; outline: 0px\; vertical-align: baseline\; background: transparent\; font-style: inherit\; font-variant: inherit\; font-weight: 700\; font-stretch: inherit\; font-size: inherit\; line-height: inherit\; font-family: inherit\; -webkit-tap-highlight-color: rgba(0\, 0\, 0\, 0)\; box-sizing: inherit\;">Scioto County</span></span></p>\n\n<p class="XzvDs _208Ie ljrnk blog-post-text-font blog-post-text-color _2QAo- _1XrpH _1-QUK ljrnk public-DraftStyleDefault-block-depth0 public-DraftStyleDefault-text-ltr" id="viewer-7fkst" style="margin: 0px\; padding: 0px\; border: 0px\; outline: 0px\; vertical-align: baseline\; background: rgb(255\, 255\, 255)\; font-variant-numeric: inherit\; font-variant-east-asian: inherit\; font-stretch: inherit\; font-size: 18px\; line-height: 1.5\; font-family: &quot\;open sans&quot\;\, sans-serif\; -webkit-tap-highlight-color: rgba(0\, 0\, 0\, 0)\; box-sizing: inherit\; direction: ltr\; min-height: var(--ricos-custom-p-min-height\,unset)\; color: rgb(47\, 46\, 46)\; white-space: pre-wrap\; text-align: center !important\;"><span class="vkIF2 public-DraftStyleDefault-ltr" style="margin: 0px\; padding: 0px\; border: 0px\; outline: 0px\; vertical-align: baseline\; background: transparent\; font: inherit\; -webkit-tap-highlight-color: rgba(0\, 0\, 0\, 0)\; box-sizing: inherit\; direction: ltr\; display: block\;"><span style="margin: 0px\; padding: 0px\; border: 0px\; outline: 0px\; vertical-align: baseline\; background: transparent\; font-style: inherit\; font-variant: inherit\; font-weight: 700\; font-stretch: inherit\; font-size: inherit\; line-height: inherit\; font-family: inherit\; -webkit-tap-highlight-color: rgba(0\, 0\, 0\, 0)\; box-sizing: inherit\;">Thursday\, April 22\, 2021 9:00am ? 5:00pm EST</span></span></p>\n\n<div class="XzvDs _208Ie ljrnk blog-post-text-font blog-post-text-color _2QAo- _25MYV _1Fao9 ljrnk public-DraftStyleDefault-block-depth0 public-DraftStyleDefault-text-ltr" id="viewer-1iaik" style="margin: 0px\; padding: 0px\; border: 0px\; outline: 0px\; vertical-align: baseline\; background: rgb(255\, 255\, 255)\; font-variant-numeric: inherit\; font-variant-east-asian: inherit\; font-stretch: inherit\; font-size: 18px\; line-height: 1.5\; font-family: &quot\;open sans&quot\;\, sans-serif\; -webkit-tap-highlight-color: rgba(0\, 0\, 0\, 0)\; box-sizing: inherit\; direction: ltr\; min-height: var(--ricos-custom-p-min-height\,unset)\; color: rgb(47\, 46\, 46)\; white-space: pre-wrap\;">&nbsp\;</div>\n\n<p class="XzvDs _208Ie ljrnk blog-post-text-font blog-post-text-color _2QAo- _25MYV _1Fao9 ljrnk public-DraftStyleDefault-block-depth0 public-DraftStyleDefault-text-ltr" id="viewer-9jnhb" style="margin: 0px\; padding: 0px\; border: 0px\; outline: 0px\; vertical-align: baseline\; background: rgb(255\, 255\, 255)\; font-variant-numeric: inherit\; font-variant-east-asian: inherit\; font-stretch: inherit\; font-size: 18px\; line-height: 1.5\; font-family: &quot\;open sans&quot\;\, sans-serif\; -webkit-tap-highlight-color: rgba(0\, 0\, 0\, 0)\; box-sizing: inherit\; direction: ltr\; min-height: var(--ricos-custom-p-min-height\,unset)\; color: rgb(47\, 46\, 46)\; white-space: pre-wrap\;"><span class="vkIF2 public-DraftStyleDefault-ltr" style="margin: 0px\; padding: 0px\; border: 0px\; outline: 0px\; vertical-align: baseline\; background: transparent\; font: inherit\; -webkit-tap-highlight-color: rgba(0\, 0\, 0\, 0)\; box-sizing: inherit\; direction: ltr\; display: block\;">You are invited to attend enCompass\, a comprehensive training on navigating addiction for Ohioans. </span></p>\n\n<div class="XzvDs _208Ie ljrnk blog-post-text-font blog-post-text-color _2QAo- _25MYV _1Fao9 ljrnk public-DraftStyleDefault-block-depth0 public-DraftStyleDefault-text-ltr" id="viewer-4k4cn" style="margin: 0px\; padding: 0px\; border: 0px\; outline: 0px\; vertical-align: baseline\; background: rgb(255\, 255\, 255)\; font-variant-numeric: inherit\; font-variant-east-asian: inherit\; font-stretch: inherit\; font-size: 18px\; line-height: 1.5\; font-family: &quot\;open sans&quot\;\, sans-serif\; -webkit-tap-highlight-color: rgba(0\, 0\, 0\, 0)\; box-sizing: inherit\; direction: ltr\; min-height: var(--ricos-custom-p-min-height\,unset)\; color: rgb(47\, 46\, 46)\; white-space: pre-wrap\;">&nbsp\;</div>\n\n<p class="XzvDs _208Ie ljrnk blog-post-text-font blog-post-text-color _2QAo- _25MYV _1Fao9 ljrnk public-DraftStyleDefault-block-depth0 public-DraftStyleDefault-text-ltr" id="viewer-di4kb" style="margin: 0px\; padding: 0px\; border: 0px\; outline: 0px\; vertical-align: baseline\; background: rgb(255\, 255\, 255)\; font-variant-numeric: inherit\; font-variant-east-asian: inherit\; font-stretch: inherit\; font-size: 18px\; line-height: 1.5\; font-family: &quot\;open sans&quot\;\, sans-serif\; -webkit-tap-highlight-color: rgba(0\, 0\, 0\, 0)\; box-sizing: inherit\; direction: ltr\; min-height: var(--ricos-custom-p-min-height\,unset)\; color: rgb(47\, 46\, 46)\; white-space: pre-wrap\;"><span class="vkIF2 public-DraftStyleDefault-ltr" style="margin: 0px\; padding: 0px\; border: 0px\; outline: 0px\; vertical-align: baseline\; background: transparent\; font: inherit\; -webkit-tap-highlight-color: rgba(0\, 0\, 0\, 0)\; box-sizing: inherit\; direction: ltr\; display: block\;">The training is sponsored by Governor DeWine?s RecoveryOhio Initiative\, the Addiction Policy Forum\, ADAMHS Board of Adams\, Lawrence and Scioto Counties and the Gallia-Jackson-Meigs ADAMHS Board. </span></p>\n\n<div class="XzvDs _208Ie ljrnk blog-post-text-font blog-post-text-color _2QAo- _25MYV _1Fao9 ljrnk public-DraftStyleDefault-block-depth0 public-DraftStyleDefault-text-ltr" id="viewer-4d43r" style="margin: 0px\; padding: 0px\; border: 0px\; outline: 0px\; vertical-align: baseline\; background: rgb(255\, 255\, 255)\; font-variant-numeric: inherit\; font-variant-east-asian: inherit\; font-stretch: inherit\; font-size: 18px\; line-height: 1.5\; font-family: &quot\;open sans&quot\;\, sans-serif\; -webkit-tap-highlight-color: rgba(0\, 0\, 0\, 0)\; box-sizing: inherit\; direction: ltr\; min-height: var(--ricos-custom-p-min-height\,unset)\; color: rgb(47\, 46\, 46)\; white-space: pre-wrap\;">&nbsp\;</div>\n\n<p class="XzvDs _208Ie ljrnk blog-post-text-font blog-post-text-color _2QAo- _25MYV _1Fao9 ljrnk public-DraftStyleDefault-block-depth0 public-DraftStyleDefault-text-ltr" id="viewer-759vf" style="margin: 0px\; padding: 0px\; border: 0px\; outline: 0px\; vertical-align: baseline\; background: rgb(255\, 255\, 255)\; font-variant-numeric: inherit\; font-variant-east-asian: inherit\; font-stretch: inherit\; font-size: 18px\; line-height: 1.5\; font-family: &quot\;open sans&quot\;\, sans-serif\; -webkit-tap-highlight-color: rgba(0\, 0\, 0\, 0)\; box-sizing: inherit\; direction: ltr\; min-height: var(--ricos-custom-p-min-height\,unset)\; color: rgb(47\, 46\, 46)\; white-space: pre-wrap\;"><span class="vkIF2 public-DraftStyleDefault-ltr" style="margin: 0px\; padding: 0px\; border: 0px\; outline: 0px\; vertical-align: baseline\; background: transparent\; font: inherit\; -webkit-tap-highlight-color: rgba(0\, 0\, 0\, 0)\; box-sizing: inherit\; direction: ltr\; display: block\;">This 8-hour training session is virtual and open to all adults who want to learn more about addiction and have the skills to respond. Attendees often include families\, friends\, caregivers\, clergy\, law enforcement\, first responders\, healthcare providers\, employers\, educators\, community-based service providers\, and anyone interested in learning how to respond to substance use/co-occurring disorders. </span></p>\n\n<div class="XzvDs _208Ie ljrnk blog-post-text-font blog-post-text-color _2QAo- _25MYV _1Fao9 ljrnk public-DraftStyleDefault-block-depth0 public-DraftStyleDefault-text-ltr" id="viewer-gj2p" style="margin: 0px\; padding: 0px\; border: 0px\; outline: 0px\; vertical-align: baseline\; background: rgb(255\, 255\, 255)\; font-variant-numeric: inherit\; font-variant-east-asian: inherit\; font-stretch: inherit\; font-size: 18px\; line-height: 1.5\; font-family: &quot\;open sans&quot\;\, sans-serif\; -webkit-tap-highlight-color: rgba(0\, 0\, 0\, 0)\; box-sizing: inherit\; direction: ltr\; min-height: var(--ricos-custom-p-min-height\,unset)\; color: rgb(47\, 46\, 46)\; white-space: pre-wrap\;">&nbsp\;</div>\n\n<p class="XzvDs _208Ie ljrnk blog-post-text-font blog-post-text-color _2QAo- _25MYV _1Fao9 ljrnk public-DraftStyleDefault-block-depth0 public-DraftStyleDefault-text-ltr" id="viewer-ch13e" style="margin: 0px\; padding: 0px\; border: 0px\; outline: 0px\; vertical-align: baseline\; background: rgb(255\, 255\, 255)\; font-variant-numeric: inherit\; font-variant-east-asian: inherit\; font-stretch: inherit\; font-size: 18px\; line-height: 1.5\; font-family: &quot\;open sans&quot\;\, sans-serif\; -webkit-tap-highlight-color: rgba(0\, 0\, 0\, 0)\; box-sizing: inherit\; direction: ltr\; min-height: var(--ricos-custom-p-min-height\,unset)\; color: rgb(47\, 46\, 46)\; white-space: pre-wrap\;"><span class="vkIF2 public-DraftStyleDefault-ltr" style="margin: 0px\; padding: 0px\; border: 0px\; outline: 0px\; vertical-align: baseline\; background: transparent\; font: inherit\; -webkit-tap-highlight-color: rgba(0\, 0\, 0\, 0)\; box-sizing: inherit\; direction: ltr\; display: block\;">Like CPR\, the course is designed to build the skills to support and respond to someone who needs help. The training will also help participants navigate the resources available in your own community.</span></p>\n\n<p class="XzvDs _208Ie ljrnk blog-post-text-font blog-post-text-color _2QAo- _25MYV _1Fao9 ljrnk public-DraftStyleDefault-block-depth0 public-DraftStyleDefault-text-ltr" id="viewer-9lc5k" style="margin: 0px\; padding: 0px\; border: 0px\; outline: 0px\; vertical-align: baseline\; background: rgb(255\, 255\, 255)\; font-variant-numeric: inherit\; font-variant-east-asian: inherit\; font-stretch: inherit\; font-size: 18px\; line-height: 1.5\; font-family: &quot\;open sans&quot\;\, sans-serif\; -webkit-tap-highlight-color: rgba(0\, 0\, 0\, 0)\; box-sizing: inherit\; direction: ltr\; min-height: var(--ricos-custom-p-min-height\,unset)\; color: rgb(47\, 46\, 46)\; white-space: pre-wrap\;">&nbsp\;</p>\n\n<p class="XzvDs _208Ie ljrnk blog-post-text-font blog-post-text-color _2QAo- _25MYV _1Fao9 ljrnk public-DraftStyleDefault-block-depth0 public-DraftStyleDefault-text-ltr" id="viewer-fnmr7" style="margin: 0px\; padding: 0px\; border: 0px\; outline: 0px\; vertical-align: baseline\; background: rgb(255\, 255\, 255)\; font-variant-numeric: inherit\; font-variant-east-asian: inherit\; font-stretch: inherit\; font-size: 18px\; line-height: 1.5\; font-family: &quot\;open sans&quot\;\, sans-serif\; -webkit-tap-highlight-color: rgba(0\, 0\, 0\, 0)\; box-sizing: inherit\; direction: ltr\; min-height: var(--ricos-custom-p-min-height\,unset)\; color: rgb(47\, 46\, 46)\; white-space: pre-wrap\;"><span class="vkIF2 public-DraftStyleDefault-ltr" style="margin: 0px\; padding: 0px\; border: 0px\; outline: 0px\; vertical-align: baseline\; background: transparent\; font: inherit\; -webkit-tap-highlight-color: rgba(0\, 0\, 0\, 0)\; box-sizing: inherit\; direction: ltr\; display: block\;">enCompass participants will learn:</span></p>\n\n<p class="XzvDs _208Ie ljrnk blog-post-text-font blog-post-text-color _2QAo- _25MYV _1Fao9 ljrnk public-DraftStyleDefault-block-depth0 public-DraftStyleDefault-text-ltr" id="viewer-7q6uf" style="margin: 0px\; padding: 0px\; border: 0px\; outline: 0px\; vertical-align: baseline\; background: rgb(255\, 255\, 255)\; font-variant-numeric: inherit\; font-variant-east-asian: inherit\; font-stretch: inherit\; font-size: 18px\; line-height: 1.5\; font-family: &quot\;open sans&quot\;\, sans-serif\; -webkit-tap-highlight-color: rgba(0\, 0\, 0\, 0)\; box-sizing: inherit\; direction: ltr\; min-height: var(--ricos-custom-p-min-height\,unset)\; color: rgb(47\, 46\, 46)\; white-space: pre-wrap\;"><span class="vkIF2 public-DraftStyleDefault-ltr" style="margin: 0px\; padding: 0px\; border: 0px\; outline: 0px\; vertical-align: baseline\; background: transparent\; font: inherit\; -webkit-tap-highlight-color: rgba(0\, 0\, 0\, 0)\; box-sizing: inherit\; direction: ltr\; display: block\;">· How to identify the signs and symptoms of addiction\;</span></p>\n\n<p class="XzvDs _208Ie ljrnk blog-post-text-font blog-post-text-color _2QAo- _25MYV _1Fao9 ljrnk public-DraftStyleDefault-block-depth0 public-DraftStyleDefault-text-ltr" id="viewer-4mqje" style="margin: 0px\; padding: 0px\; border: 0px\; outline: 0px\; vertical-align: baseline\; background: rgb(255\, 255\, 255)\; font-variant-numeric: inherit\; font-variant-east-asian: inherit\; font-stretch: inherit\; font-size: 18px\; line-height: 1.5\; font-family: &quot\;open sans&quot\;\, sans-serif\; -webkit-tap-highlight-color: rgba(0\, 0\, 0\, 0)\; box-sizing: inherit\; direction: ltr\; min-height: var(--ricos-custom-p-min-height\,unset)\; color: rgb(47\, 46\, 46)\; white-space: pre-wrap\;"><span class="vkIF2 public-DraftStyleDefault-ltr" style="margin: 0px\; padding: 0px\; border: 0px\; outline: 0px\; vertical-align: baseline\; background: transparent\; font: inherit\; -webkit-tap-highlight-color: rgba(0\, 0\, 0\, 0)\; box-sizing: inherit\; direction: ltr\; display: block\;">· How to help an individual in need of support\; </span></p>\n\n<p class="XzvDs _208Ie ljrnk blog-post-text-font blog-post-text-color _2QAo- _25MYV _1Fao9 ljrnk public-DraftStyleDefault-block-depth0 public-DraftStyleDefault-text-ltr" id="viewer-e74h" style="margin: 0px\; padding: 0px\; border: 0px\; outline: 0px\; vertical-align: baseline\; background: rgb(255\, 255\, 255)\; font-variant-numeric: inherit\; font-variant-east-asian: inherit\; font-stretch: inherit\; font-size: 18px\; line-height: 1.5\; font-family: &quot\;open sans&quot\;\, sans-serif\; -webkit-tap-highlight-color: rgba(0\, 0\, 0\, 0)\; box-sizing: inherit\; direction: ltr\; min-height: var(--ricos-custom-p-min-height\,unset)\; color: rgb(47\, 46\, 46)\; white-space: pre-wrap\;"><span class="vkIF2 public-DraftStyleDefault-ltr" style="margin: 0px\; padding: 0px\; border: 0px\; outline: 0px\; vertical-align: baseline\; background: transparent\; font: inherit\; -webkit-tap-highlight-color: rgba(0\, 0\, 0\, 0)\; box-sizing: inherit\; direction: ltr\; display: block\;">· The effects of stigma on individuals and families\; and</span></p>\n\n<p class="XzvDs _208Ie ljrnk blog-post-text-font blog-post-text-color _2QAo- _25MYV _1Fao9 ljrnk public-DraftStyleDefault-block-depth0 public-DraftStyleDefault-text-ltr" id="viewer-edspb" style="margin: 0px\; padding: 0px\; border: 0px\; outline: 0px\; vertical-align: baseline\; background: rgb(255\, 255\, 255)\; font-variant-numeric: inherit\; font-variant-east-asian: inherit\; font-stretch: inherit\; font-size: 18px\; line-height: 1.5\; font-family: &quot\;open sans&quot\;\, sans-serif\; -webkit-tap-highlight-color: rgba(0\, 0\, 0\, 0)\; box-sizing: inherit\; direction: ltr\; min-height: var(--ricos-custom-p-min-height\,unset)\; color: rgb(47\, 46\, 46)\; white-space: pre-wrap\;"><span class="vkIF2 public-DraftStyleDefault-ltr" style="margin: 0px\; padding: 0px\; border: 0px\; outline: 0px\; vertical-align: baseline\; background: transparent\; font: inherit\; -webkit-tap-highlight-color: rgba(0\, 0\, 0\, 0)\; box-sizing: inherit\; direction: ltr\; display: block\;">· How to set healthy boundaries and principles of self-care.</span></p>\n\n<div class="XzvDs _208Ie ljrnk blog-post-text-font blog-post-text-color _2QAo- _25MYV _1Fao9 ljrnk public-DraftStyleDefault-block-depth0 public-DraftStyleDefault-text-ltr" id="viewer-64lek" style="margin: 0px\; padding: 0px\; border: 0px\; outline: 0px\; vertical-align: baseline\; background: rgb(255\, 255\, 255)\; font-variant-numeric: inherit\; font-variant-east-asian: inherit\; font-stretch: inherit\; font-size: 18px\; line-height: 1.5\; font-family: &quot\;open sans&quot\;\, sans-serif\; -webkit-tap-highlight-color: rgba(0\, 0\, 0\, 0)\; box-sizing: inherit\; direction: ltr\; min-height: var(--ricos-custom-p-min-height\,unset)\; color: rgb(47\, 46\, 46)\; white-space: pre-wrap\;">&nbsp\;</div>\n\n<p class="XzvDs _208Ie ljrnk blog-post-text-font blog-post-text-color _2QAo- _25MYV _1Fao9 ljrnk public-DraftStyleDefault-block-depth0 public-DraftStyleDefault-text-ltr" id="viewer-8hrn9" style="margin: 0px\; padding: 0px\; border: 0px\; outline: 0px\; vertical-align: baseline\; background: rgb(255\, 255\, 255)\; font-variant-numeric: inherit\; font-variant-east-asian: inherit\; font-stretch: inherit\; font-size: 18px\; line-height: 1.5\; font-family: &quot\;open sans&quot\;\, sans-serif\; -webkit-tap-highlight-color: rgba(0\, 0\, 0\, 0)\; box-sizing: inherit\; direction: ltr\; min-height: var(--ricos-custom-p-min-height\,unset)\; color: rgb(47\, 46\, 46)\; white-space: pre-wrap\;"><span class="vkIF2 public-DraftStyleDefault-ltr" style="margin: 0px\; padding: 0px\; border: 0px\; outline: 0px\; vertical-align: baseline\; background: transparent\; font: inherit\; -webkit-tap-highlight-color: rgba(0\, 0\, 0\, 0)\; box-sizing: inherit\; direction: ltr\; display: block\;">All participants receive a certificate at the completion of the course.<br>\n<br>\n<a href="https://www.addictionpolicy.org/encompass-registration">Register Here</a></span></p>\n
LOCATION:
UID:e.3589.194
SEQUENCE:3
DTSTAMP:20260419T224058Z
URL:https://business.portsmouth.org/events/details/navigating-addiction-training-194
END:VEVENT

END:VCALENDAR
