BEGIN:VCALENDAR
VERSION:2.0
PRODID:-//ChamberMaster//Event Calendar 2.0//EN
METHOD:PUBLISH
X-PUBLISHED-TTL:P3D
REFRESH-INTERVAL:P3D
CALSCALE:GREGORIAN
BEGIN:VEVENT
DTSTART:20210501T160000Z
DTEND:20210501T180000Z
X-MICROSOFT-CDO-ALLDAYEVENT:FALSE
SUMMARY:NRA Picnic
DESCRIPTION:NR A Picnic\n\nFun\, guns and more!\n\n\n\nEvent will be held at Riverside Park\, large shelter house located at 15888 US Highway 52 in West Portsmouth\,OH.\n\n\n\nFood\, fun\, bucket raffles and games for all ages.  Bring the whole family for a fun filled afternoon and support our 2nd amendment freedom.  \n\n\n\nAdults are $10 each (meal included)\, and children 10 and under are free. \n\n\n\nFor tickets and ticket information call Rebecca at 740-464-0852 or email her at rebeccalsb@live.com.
X-ALT-DESC;FMTTYPE=text/html:<span style="color:#0000CD\;"><strong><span style="font-size:48px\;">NR</span></strong>&nbsp\;<strong><span style="font-size: 48px\;">A Picnic</span></strong><br />\n<em><strong><span style="font-size:22px\;">Fun\, guns and more!</span></strong></em></span><br />\n<br />\n<span style="font-size:20px\;">Event will be held at Riverside Park\, large shelter house located at 15888 US Highway 52 in West Portsmouth\,OH.<br />\n<br />\nFood\, fun\, bucket raffles and games for all ages.&nbsp\; Bring the whole family for a fun filled afternoon and support our 2nd amendment freedom.&nbsp\;&nbsp\;<br />\n<br />\nAdults are $10 each (meal included)\, and children 10 and under are free.&nbsp\;<br />\n<br />\nFor tickets and ticket information call Rebecca at 740-464-0852 or email her at <a href="mailto:rebeccalsb@live.com">rebeccalsb@live.com</a>.&nbsp\;&nbsp\;</span><br />\n<br />\n<br />\n&nbsp\;
LOCATION:
UID:e.3589.198
SEQUENCE:3
DTSTAMP:20260419T201632Z
URL:https://business.portsmouth.org/events/details/nra-picnic-198
END:VEVENT

END:VCALENDAR
