BEGIN:VCALENDAR
VERSION:2.0
PRODID:-//ChamberMaster//Event Calendar 2.0//EN
METHOD:PUBLISH
X-PUBLISHED-TTL:P3D
REFRESH-INTERVAL:P3D
CALSCALE:GREGORIAN
BEGIN:VEVENT
DTSTART;VALUE=DATE:20241207
DTEND;VALUE=DATE:20241208
TRANSP:TRANSPARENT
X-MICROSOFT-CDO-ALLDAYEVENT:TRUE
SUMMARY:Oh No The Grinch stole the Nutcracker
DESCRIPTION:Cirque D Art presents this uplifting program. Join us for a journey through some of your favorite Christmas stories.
X-ALT-DESC;FMTTYPE=text/html:<span style="color: rgb(51\, 51\, 51)\; font-family: sans-serif\, Arial\, Verdana\, &quot\;Trebuchet MS&quot\;\; font-size: 13px\; background-color: rgb(255\, 255\, 255)\;">Cirque D Art presents this uplifting program. Join us for a journey through some of your favorite Christmas stories.</span>
LOCATION:Vern Riffe Center for the Arts 940 Second St. Portsmouth\, Oh 45662
UID:e.3589.2999
SEQUENCE:3
DTSTAMP:20260425T004558Z
URL:https://business.portsmouth.org/events/details/oh-no-the-grinch-stole-the-nutcracker-2999
END:VEVENT

END:VCALENDAR
