BEGIN:VCALENDAR
VERSION:2.0
PRODID:-//ChamberMaster//Event Calendar 2.0//EN
METHOD:PUBLISH
X-PUBLISHED-TTL:P3D
REFRESH-INTERVAL:P3D
CALSCALE:GREGORIAN
BEGIN:VEVENT
DTSTART;VALUE=DATE:20241012
DTEND;VALUE=DATE:20241013
TRANSP:TRANSPARENT
X-MICROSOFT-CDO-ALLDAYEVENT:TRUE
SUMMARY:Ohio River Street Rodders - CRUISE IN
DESCRIPTION:OHIO RIVER STREET RODDERS - CRUISE-IN  1pm - 5pm at Scioto County Fairgrounds\, 1193 Fairground Rd\, Lucasville\, Oh 45648 Contact: Bill Mullins 740-456-8616
X-ALT-DESC;FMTTYPE=text/html:OHIO RIVER STREET RODDERS - CRUISE-IN&nbsp\; 1pm - 5pm at Scioto County Fairgrounds\, 1193 Fairground Rd\, Lucasville\, Oh 45648 Contact: Bill Mullins 740-456-8616
LOCATION:Scioto County Fairgrounds\, 1193 Fairground Rd. Lucasville\, Oh 45648
UID:e.3589.2356
SEQUENCE:3
DTSTAMP:20260421T204819Z
URL:https://business.portsmouth.org/events/details/ohio-river-street-rodders-cruise-in-2356
END:VEVENT

END:VCALENDAR
