BEGIN:VCALENDAR
VERSION:2.0
PRODID:-//ChamberMaster//Event Calendar 2.0//EN
METHOD:PUBLISH
X-PUBLISHED-TTL:P3D
REFRESH-INTERVAL:P3D
CALSCALE:GREGORIAN
BEGIN:VEVENT
DTSTART;VALUE=DATE:20200509
DTEND;VALUE=DATE:20200510
TRANSP:TRANSPARENT
X-MICROSOFT-CDO-ALLDAYEVENT:TRUE
SUMMARY:Orchid Hike
DESCRIPTION:May 9th   Orchid Hike at Davis Memorial State Nature Preserve at 10 a.m.  Let's take a hike with preserve manager\, Josh Deemer\, to look for the pink and yellow lady slipper orchids in bloom.  Preserve located on Davis Memorial Rd\, Peebles\, OH.  For more information\, contact Jody at fosbc@scpwildblue.com or 740-493-3062.
X-ALT-DESC;FMTTYPE=text/html:<span style="font-size:14px\;"><strong>&nbsp\;May 9<sup>th</sup> &ndash\; Orchid Hike at Davis Memorial State Nature Preserve at 10 a.m.&nbsp\; Let&rsquo\;s take a hike with preserve manager\, Josh Deemer\, to look for the pink and yellow lady slipper orchids in bloom.&nbsp\; Preserve located on Davis Memorial Rd\, Peebles\, OH.&nbsp\; For more information\, contact Jody at fosbc@scpwildblue.com or 740-493-3062.</strong></span>
LOCATION:
UID:e.3589.79
SEQUENCE:3
DTSTAMP:20260422T110213Z
URL:https://business.portsmouth.org/events/details/orchid-hike-79
END:VEVENT

END:VCALENDAR
