BEGIN:VCALENDAR
VERSION:2.0
PRODID:-//ChamberMaster//Event Calendar 2.0//EN
METHOD:PUBLISH
X-PUBLISHED-TTL:P3D
REFRESH-INTERVAL:P3D
CALSCALE:GREGORIAN
BEGIN:VEVENT
DTSTART;VALUE=DATE:20200718
DTEND;VALUE=DATE:20200719
TRANSP:TRANSPARENT
X-MICROSOFT-CDO-ALLDAYEVENT:TRUE
SUMMARY:Otway Community Cleanup
DESCRIPTION:July 18th   Adopt-a-highway & Gladys Riley Golden Star Lily Preserve community clean-up.  Join the Friends of Scioto Brush Creek volunteers for a litter pick-up beginning at 9:15 a.m. at the Brush Creek Township Community Park\, St. Rt. 348\, Otway\, OH.  Dress for the weather.  For more information\, contact Jody at fosbc@scpwildblue.com or 740-493-3062.
X-ALT-DESC;FMTTYPE=text/html:<br />\nJuly 18th &ndash\; Adopt-a-highway &amp\; Gladys Riley Golden Star Lily Preserve community clean-up.&nbsp\; Join the Friends of Scioto Brush Creek volunteers for a litter pick-up beginning at 9:15 a.m. at the Brush Creek Township Community Park\, St. Rt. 348\, Otway\, OH. &nbsp\;Dress for the weather.&nbsp\; <a name="_Hlk31278093">For more information\, contact Jody at </a><a href="mailto:foscb@scpwildblue.com">fosbc@scpwildblue.com</a> or 740-493-3062.<br />\n&nbsp\;
LOCATION:Brush Creek Township Community Park\, St. Rt. 348\, Otway\, OH.
UID:e.3589.81
SEQUENCE:3
DTSTAMP:20260420T100308Z
URL:https://business.portsmouth.org/events/details/otway-community-cleanup-81
END:VEVENT

END:VCALENDAR
