BEGIN:VCALENDAR
VERSION:2.0
PRODID:-//ChamberMaster//Event Calendar 2.0//EN
METHOD:PUBLISH
X-PUBLISHED-TTL:P3D
REFRESH-INTERVAL:P3D
CALSCALE:GREGORIAN
BEGIN:VEVENT
DTSTART;VALUE=DATE:20221001
DTEND;VALUE=DATE:20221003
TRANSP:TRANSPARENT
X-MICROSOFT-CDO-ALLDAYEVENT:TRUE
SUMMARY:Otway Covered Bridge Festival
DESCRIPTION:Otway Covered Bridge Festival! October 1st\, 10 a.m. - 5:00 p.m.
X-ALT-DESC;FMTTYPE=text/html:<span style="font-size:24px\;">Otway Covered Bridge Festival! October 1st\, 10 a.m. - 5:00 p.m.</span>
LOCATION:
UID:e.3589.459
SEQUENCE:3
DTSTAMP:20260425T022149Z
URL:https://business.portsmouth.org/events/details/otway-covered-bridge-festival-459
END:VEVENT

END:VCALENDAR
