BEGIN:VCALENDAR
VERSION:2.0
PRODID:-//ChamberMaster//Event Calendar 2.0//EN
METHOD:PUBLISH
X-PUBLISHED-TTL:P3D
REFRESH-INTERVAL:P3D
CALSCALE:GREGORIAN
BEGIN:VEVENT
DTSTART:20241025T230000Z
DTEND:20241027T200000Z
X-MICROSOFT-CDO-ALLDAYEVENT:FALSE
SUMMARY:PAAC Presents Disney's Descendants
DESCRIPTION:Based on the popular Disney Channel Original Movies\, Disney's Descendants: The Musical is a brand-new musical jam-packed with comedy\, adventure\, Disney characters\, and hit songs from the films! Imprisoned on the Isle of the Lost   home of the most infamous villains who ever lived   the teenaged children of Maleficent\, the Evil Queen\, Jafar\, and Cruella De Vil have never ventured off the island  until now. When the four troublemakers are sent to attend prep school alongside the children of beloved Disney heroes\, they have a difficult choice to make: should they follow in their parents' wicked footsteps or learn to be good?
X-ALT-DESC;FMTTYPE=text/html:Based on the popular Disney Channel Original Movies\, Disney&#39\;s Descendants: The Musical is a brand-new musical jam-packed with comedy\, adventure\, Disney characters\, and hit songs from the films! Imprisoned on the Isle of the Lost &ndash\; home of the most infamous villains who ever lived &ndash\; the teenaged children of Maleficent\, the Evil Queen\, Jafar\, and Cruella De Vil have never ventured off the island&hellip\; until now. When the four troublemakers are sent to attend prep school alongside the children of beloved Disney heroes\, they have a difficult choice to make: should they follow in their parents&rsquo\; wicked footsteps or learn to be good?
LOCATION:Vern Riffe Center for the Arts
UID:e.3589.2963
SEQUENCE:3
DTSTAMP:20260421T204719Z
URL:https://business.portsmouth.org/events/details/paac-presents-disney-s-descendants-2963
END:VEVENT

END:VCALENDAR
