BEGIN:VCALENDAR
VERSION:2.0
PRODID:-//ChamberMaster//Event Calendar 2.0//EN
METHOD:PUBLISH
X-PUBLISHED-TTL:P3D
REFRESH-INTERVAL:P3D
CALSCALE:GREGORIAN
BEGIN:VEVENT
DTSTART:20210610T221500Z
DTEND:20210611T010000Z
X-MICROSOFT-CDO-ALLDAYEVENT:FALSE
SUMMARY:Pastor's Pantry Cooking Class
DESCRIPTION:Smokin' Sampler BBQ Cooking Class\n\nJune 10th\, 2021 - $45 per person\n\nClass Starts at 6:30 pm - Doors open at 6:15 pm\n\nThis class is one evening\, and an intimate\, demonstration event where students may get to assist in preparation and eat what is cooked. Classes have limited seating so that everyone can enjoy the interactive experience. If there are others attending the class that you would like to sit with\, please list their names in the comments when checking out.\n\nDoors open 15 minutes prior to class start time and is approx 2 hours.\n\nRESERVATION PRICE IS PER PERSON. Reservations close 48 hours prior to the class or when sold out\, whichever comes first.\n\nParking is limited so we recommend that you park in the lot behind our building or in the lot on Duis and Gallia Pike.\n\nMenu subject to change based on availability. Our seating is on bar stools at high top tables. Beverages are included with the meal (please do not bring in outside drinks).\n\nWe want your dining experience with us to be great. To help us accomplish that we would like to know of any special dietary concerns\, handicapped seating or other special needs or questions at least 48 hours in advance of the class.
X-ALT-DESC;FMTTYPE=text/html:<div class="kvgmc6g5 cxmmr5t8 oygrvhab hcukyx3x c1et5uql" style="overflow-wrap: break-word\; margin: 0px\; font-family: &quot\;Segoe UI Historic&quot\;\, &quot\;Segoe UI&quot\;\, Helvetica\, Arial\, sans-serif\; color: rgb(5\, 5\, 5)\; font-size: 15px\; background-color: rgb(255\, 255\, 255)\; animation-name: none !important\; transition-property: none !important\;">\n<h1 id="product-title" style="color: rgb(51\, 51\, 51)\; line-height: 1.2\; margin: 0px 0px 5px\; font-size: 24px\; font-family: Helvetica\, Arial\, sans-serif\; background-color: rgb(255\, 255\, 255)\;"><strong><span style="font-size:22px\;"><span style="color:#FF0000\;">Smokin&#39\; Sampler BBQ Cooking Class</span></span></strong></h1>\n\n<p class="kvgmc6g5 cxmmr5t8 oygrvhab hcukyx3x c1et5uql" data-mce-fragment="1" style="margin: 0px 0px 1em\; padding: 0px\; border: 0px\; font-variant-numeric: inherit\; font-variant-east-asian: inherit\; font-stretch: inherit\; font-size: 13px\; line-height: inherit\; font-family: Helvetica\, Arial\, sans-serif\; vertical-align: baseline\; color: rgb(102\, 102\, 102)\; background-color: rgb(255\, 255\, 255)\;"><span style="font-size:16px\;">June 10th\, 2021&nbsp\;- $45 per person</span></p>\n\n<p class="o9v6fnle cxmmr5t8 oygrvhab hcukyx3x c1et5uql" data-mce-fragment="1" style="margin: 0px 0px 1em\; padding: 0px\; border: 0px\; font-variant-numeric: inherit\; font-variant-east-asian: inherit\; font-stretch: inherit\; font-size: 13px\; line-height: inherit\; font-family: Helvetica\, Arial\, sans-serif\; vertical-align: baseline\; color: rgb(102\, 102\, 102)\; background-color: rgb(255\, 255\, 255)\;"><span style="font-size:16px\;">Class Starts at 6:30 pm - Doors open at 6:15 pm</span></p>\n\n<p class="o9v6fnle cxmmr5t8 oygrvhab hcukyx3x c1et5uql" data-mce-fragment="1" style="margin: 0px 0px 1em\; padding: 0px\; border: 0px\; font-variant-numeric: inherit\; font-variant-east-asian: inherit\; font-stretch: inherit\; font-size: 13px\; line-height: inherit\; font-family: Helvetica\, Arial\, sans-serif\; vertical-align: baseline\; color: rgb(102\, 102\, 102)\; background-color: rgb(255\, 255\, 255)\;"><span style="font-size:16px\;">This class is one evening\, and an intimate\, demonstration event where students may get to assist in preparation and eat what is cooked. Classes have limited seating so that everyone can enjoy the interactive experience. If there are others attending the class that you would like to sit with\, please list their names in the comments when checking out.</span></p>\n\n<p class="o9v6fnle cxmmr5t8 oygrvhab hcukyx3x c1et5uql" data-mce-fragment="1" style="margin: 0px 0px 1em\; padding: 0px\; border: 0px\; font-variant-numeric: inherit\; font-variant-east-asian: inherit\; font-stretch: inherit\; font-size: 13px\; line-height: inherit\; font-family: Helvetica\, Arial\, sans-serif\; vertical-align: baseline\; color: rgb(102\, 102\, 102)\; background-color: rgb(255\, 255\, 255)\;"><span style="font-size:16px\;">Doors open 15 minutes prior to class start time and is approx 2 hours.</span></p>\n\n<p class="o9v6fnle cxmmr5t8 oygrvhab hcukyx3x c1et5uql" data-mce-fragment="1" style="margin: 0px 0px 1em\; padding: 0px\; border: 0px\; font-variant-numeric: inherit\; font-variant-east-asian: inherit\; font-stretch: inherit\; font-size: 13px\; line-height: inherit\; font-family: Helvetica\, Arial\, sans-serif\; vertical-align: baseline\; color: rgb(102\, 102\, 102)\; background-color: rgb(255\, 255\, 255)\;"><span style="font-size:16px\;">RESERVATION PRICE IS PER PERSON. Reservations close 48 hours prior to the class or when sold out\, whichever comes first.</span></p>\n\n<p class="o9v6fnle cxmmr5t8 oygrvhab hcukyx3x c1et5uql" data-mce-fragment="1" style="margin: 0px 0px 1em\; padding: 0px\; border: 0px\; font-variant-numeric: inherit\; font-variant-east-asian: inherit\; font-stretch: inherit\; font-size: 13px\; line-height: inherit\; font-family: Helvetica\, Arial\, sans-serif\; vertical-align: baseline\; color: rgb(102\, 102\, 102)\; background-color: rgb(255\, 255\, 255)\;"><span style="font-size:16px\;">Parking is limited so we recommend that you park in the lot behind our building or in the lot on Duis and Gallia Pike.</span></p>\n\n<p class="o9v6fnle cxmmr5t8 oygrvhab hcukyx3x c1et5uql" data-mce-fragment="1" style="margin: 0px 0px 1em\; padding: 0px\; border: 0px\; font-variant-numeric: inherit\; font-variant-east-asian: inherit\; font-stretch: inherit\; font-size: 13px\; line-height: inherit\; font-family: Helvetica\, Arial\, sans-serif\; vertical-align: baseline\; color: rgb(102\, 102\, 102)\; background-color: rgb(255\, 255\, 255)\;"><span style="font-size:16px\;">Menu subject to change based on availability. Our seating is on bar stools at high top tables. Beverages are included with the meal (please do not bring in outside drinks).</span></p>\n\n<p class="o9v6fnle cxmmr5t8 oygrvhab hcukyx3x c1et5uql" data-mce-fragment="1" style="margin: 0px 0px 1em\; padding: 0px\; border: 0px\; font-variant-numeric: inherit\; font-variant-east-asian: inherit\; font-stretch: inherit\; font-size: 13px\; line-height: inherit\; font-family: Helvetica\, Arial\, sans-serif\; vertical-align: baseline\; color: rgb(102\, 102\, 102)\; background-color: rgb(255\, 255\, 255)\;"><span style="font-size:16px\;">We want your dining experience with us to be great. To help us accomplish that we would like to know of any special dietary concerns\, handicapped seating or other special needs or questions at least 48 hours in advance of the class.</span></p>\n\n<p class="kvgmc6g5 cxmmr5t8 oygrvhab hcukyx3x c1et5uql" data-mce-fragment="1" style="margin: 0px 0px 1em\; padding: 0px\; border: 0px\; font-variant-numeric: inherit\; font-variant-east-asian: inherit\; font-stretch: inherit\; font-size: 13px\; line-height: inherit\; font-family: Helvetica\, Arial\, sans-serif\; vertical-align: baseline\; color: rgb(102\, 102\, 102)\; background-color: rgb(255\, 255\, 255)\;"><br />\n&nbsp\;</p>\n</div>\n
LOCATION:
UID:e.3589.214
SEQUENCE:3
DTSTAMP:20260419T190014Z
URL:https://business.portsmouth.org/events/details/pastor-s-pantry-cooking-class-214
END:VEVENT

END:VCALENDAR
