BEGIN:VCALENDAR
VERSION:2.0
PRODID:-//ChamberMaster//Event Calendar 2.0//EN
METHOD:PUBLISH
X-PUBLISHED-TTL:P3D
REFRESH-INTERVAL:P3D
CALSCALE:GREGORIAN
BEGIN:VEVENT
DTSTART;VALUE=DATE:20241018
DTEND;VALUE=DATE:20241020
TRANSP:TRANSPARENT
X-MICROSOFT-CDO-ALLDAYEVENT:TRUE
SUMMARY:Portsmouth Little Theater - Wait Until Dark
DESCRIPTION:A play by Frederick Knott
X-ALT-DESC;FMTTYPE=text/html:A play by Frederick Knott
LOCATION:Portsmouth Little Theater
UID:e.3589.2451
SEQUENCE:3
DTSTAMP:20260421T204820Z
URL:https://business.portsmouth.org/events/details/portsmouth-little-theater-wait-until-dark-2451
END:VEVENT

END:VCALENDAR
