BEGIN:VCALENDAR
VERSION:2.0
PRODID:-//ChamberMaster//Event Calendar 2.0//EN
METHOD:PUBLISH
X-PUBLISHED-TTL:P3D
REFRESH-INTERVAL:P3D
CALSCALE:GREGORIAN
BEGIN:VEVENT
DTSTART:20250520T220000Z
DTEND:20250521T000000Z
X-MICROSOFT-CDO-ALLDAYEVENT:FALSE
SUMMARY:Portsmouth Ohio Volunteer Fair
DESCRIPTION:Join us to explore opportunities to impact our community. Connect with local non-profits and find ways to contribute your skills to causes you care about\, from the environment to various other initiatives. Discover your perfect volunteer match. Your community needs you! Free Entry- Concession Stand- Door Prizes
X-ALT-DESC;FMTTYPE=text/html:Join us to explore opportunities to impact our community. Connect with local non-profits and find ways to contribute your skills to causes you care about\, from the environment to various other initiatives. Discover your perfect volunteer match. Your community needs you! Free Entry- Concession Stand- Door Prizes
LOCATION:2313 17th Street Portsmouth\, OH
UID:e.3589.3045
SEQUENCE:3
DTSTAMP:20260420T115726Z
URL:https://business.portsmouth.org/events/details/portsmouth-ohio-volunteer-fair-3045
END:VEVENT

END:VCALENDAR
