BEGIN:VCALENDAR
VERSION:2.0
PRODID:-//ChamberMaster//Event Calendar 2.0//EN
METHOD:PUBLISH
X-PUBLISHED-TTL:P3D
REFRESH-INTERVAL:P3D
CALSCALE:GREGORIAN
BEGIN:VEVENT
DTSTART;VALUE=DATE:20220701
DTEND;VALUE=DATE:20220702
TRANSP:TRANSPARENT
X-MICROSOFT-CDO-ALLDAYEVENT:TRUE
SUMMARY:Portsmouth Raceway Park
DESCRIPTION:'ABLE AIR' INDEPENDENCE 50 - LUCAS OIL LATE MODEL SERIES $12\,000 TO WIN. INCLUDES: Dirt Super Late Models\;\; Lucas Oil Late Model Dirt Series. Modifieds and Limited Late Models
X-ALT-DESC;FMTTYPE=text/html:<strong><span style="font-size:14px\;">&#39\;ABLE AIR&#39\; INDEPENDENCE 50 - LUCAS OIL LATE MODEL SERIES $12\,000 TO WIN.&nbsp\;</span></strong><span style="font-size:14px\;">INCLUDES: Dirt Super Late Models\;\; Lucas Oil Late Model Dirt Series. Modifieds and Limited Late Models</span>
LOCATION:
UID:e.3589.388
SEQUENCE:3
DTSTAMP:20260423T231422Z
URL:https://business.portsmouth.org/events/details/portsmouth-raceway-park-388
END:VEVENT

END:VCALENDAR
