BEGIN:VCALENDAR
VERSION:2.0
PRODID:-//ChamberMaster//Event Calendar 2.0//EN
METHOD:PUBLISH
X-PUBLISHED-TTL:P3D
REFRESH-INTERVAL:P3D
CALSCALE:GREGORIAN
BEGIN:VEVENT
DTSTART;VALUE=DATE:20220730
DTEND;VALUE=DATE:20220731
TRANSP:TRANSPARENT
X-MICROSOFT-CDO-ALLDAYEVENT:TRUE
SUMMARY:Portsmouth Raceway Park
DESCRIPTION:DIRT TRACK AUTO RACING\n\n'BERNDT & MERFIN INSURANCE' Presents Boone Coleman Memorial "GATOR 50" Dirt Super Late Models\; Iron-Man Model Series\n\nalso Modifieds\, Limited Late Models and Sport Mods
X-ALT-DESC;FMTTYPE=text/html:<strong><span style="font-size:14px\;">DIRT TRACK AUTO RACING<br />\n&#39\;BERNDT &amp\; MERFIN INSURANCE&#39\; Presents Boone Coleman Memorial &quot\;GATOR 50&quot\;&nbsp\;</span></strong><span style="font-size:14px\;">Dirt Super Late Models\; Iron-Man Model Series<br />\nalso Modifieds\, Limited Late Models and Sport Mods</span>
LOCATION:
UID:e.3589.391
SEQUENCE:3
DTSTAMP:20260423T231340Z
URL:https://business.portsmouth.org/events/details/portsmouth-raceway-park-391
END:VEVENT

END:VCALENDAR
