BEGIN:VCALENDAR
VERSION:2.0
PRODID:-//ChamberMaster//Event Calendar 2.0//EN
METHOD:PUBLISH
X-PUBLISHED-TTL:P3D
REFRESH-INTERVAL:P3D
CALSCALE:GREGORIAN
BEGIN:VEVENT
DTSTART;VALUE=DATE:20240803
DTEND;VALUE=DATE:20240804
TRANSP:TRANSPARENT
X-MICROSOFT-CDO-ALLDAYEVENT:TRUE
SUMMARY:Portsmouth Raceway Park - Mod Squad
DESCRIPTION:Portsmouth Raceway Park - Mod Squad Spectacular - Modifieds\, Limited Late Models\, Sport Mods\, and Ohio Valley Legends. for more information visit website: www.portsraceway.com
X-ALT-DESC;FMTTYPE=text/html:Portsmouth Raceway Park - Mod Squad Spectacular - Modifieds\, Limited Late Models\, Sport Mods\, and Ohio Valley Legends. for more information visit website: www.portsraceway.com<br />\n&nbsp\;
LOCATION:
UID:e.3589.2390
SEQUENCE:3
DTSTAMP:20260421T074123Z
URL:https://business.portsmouth.org/events/details/portsmouth-raceway-park-mod-squad-2390
END:VEVENT

END:VCALENDAR
